Workbook

Sheet Форма 1
D1: Приложение 7 к приказу управления образования и молодежи администрации города Алушты от 04.09.2026 №194
A2: Форма 1
A3: Количественные данные об участниках школьного этапа всероссийской олимпиады школьников в 2026/27 учебном году _______________________________________________ наименование общеобразовательного учреждения
A4: Общеобразовательные предметы | B4: Школьный этап (с учетом 4-х классов)
B5: Дата проведения ШЭ | C5: Фактическое кол-во участников (чел.) | D5: Общее кол-во победителей и призеров (чел.) | E5: Кол-во победителей (чел.) | F5: Кол-во призеров (чел.)
A6: Английский язык | D6: =E6+F6 -> 0
A7: Астрономия | D7: =E7+F7 -> 0
A8: Биология | D8: =E8+F8 -> 0
A9: География | D9: =E9+F9 -> 0
A10: Информатика | C10: ='Форма 1п'!B6 -> 0 | D10: ='Форма 1п'!C6 -> 0 | E10: ='Форма 1п'!D6 -> 0 | F10: ='Форма 1п'!E6 -> 0
A11: Искусство (МХК) | D11: =E11+F11 -> 0
A12: История | D12: =E12+F12 -> 0
A13: Испанский язык | D13: =E13+F13 -> 0
A14: Итальянский язык | D14: =E14+F14 -> 0
A15: Китайский язык | D15: =E15+F15 -> 0
A16: Литература | D16: =E16+F16 -> 0
A17: Математика | D17: =E17+F17 -> 0
A18: Немецкий язык | D18: =E18+F18 -> 0
A19: Обществознание | D19: =E19+F19 -> 0
A20: ОБЗР | D20: =E20+F20 -> 0
A21: Право | D21: =E21+F21 -> 0
A22: Русский язык | D22: =E22+F22 -> 0
A23: Труд (технология) | C23: ='Форма 1п'!B11 -> 0 | D23: ='Форма 1п'!C11 -> 0 | E23: ='Форма 1п'!D11 -> 0 | F23: ='Форма 1п'!E11 -> 0
A24: Физика | D24: =E24+F24 -> 0
A25: Физическая культура | D25: =E25+F25 -> 0
A26: Французский язык | D26: =E26+F26 -> 0
A27: Химия | D27: =E27+F27 -> 0
A28: Экология | D28: =E28+F28 -> 0
A29: Экономика | D29: =E29+F29 -> 0

Sheet Форма 1п
C1: Приложение 7 к приказу управления образования и молодежи администрации города Алушты от 04.09.2026 №194
A2: Форма 1п
A3: Количественные данные об участниках школьного этапа всероссийской олимпиады школьников по профилям в 2026/27 учебном году _______________________________________________________ наименование субъекта Российской Федерации
A4: Общеобразовательные предметы | B4: Школьный этап
B5: Фактическое кол-во участников (чел.) | C5: Общее кол-во победителей и призеров (чел.) | D5: Кол-во победителей (чел.) | E5: Кол-во призеров (чел.)
A6: Информатика | B6: =B7++B8++B9+B10 -> 0 | C6: =D6+E6 -> 0 | D6: =D7++D8++D9+D10 -> 0 | E6: =E7++E8++E9+E10 -> 0
A7: Програмирование | C7: =D7+E7 -> 0
A8: Робототехника | C8: =D8+E8 -> 0
A9: Информационная безопасность | C9: =D9+E9 -> 0
A10: Искусcтвенный интеллект | C10: =D10+E10 -> 0
A11: Труд (технология) | B11: =B12+B13 -> 0 | C11: =D11+E11 -> 0 | D11: =D12+D13 -> 0 | E11: =E12+E13 -> 0
A12: Техника, технология и техническое творчество | C12: =D12+E12 -> 0
A13: Культура дома, дизайн и технология | C13: =D13+E13 -> 0
