Workbook
Name date_begin: Лист2!$F$4
Name date_end: Лист2!$F$5
Name level: Лист2!$J$4:$J$7
Name rf: Лист2!$H$4:$H$6
Name sex: Лист2!$F$4:$F$6
Name t_class: Лист2!$B$4:$B$11
Name t_date: Лист2!$F$4:$F$5
Name t_type: Лист2!$D$4:$D$6
Name type: Лист2!$D$4:$D$6

Sheet Форма для загрузки
B1: Итоговая (рейтинговая) таблица результатов участников муниципального этапа всероссийской олимпиады школьников
A2: * - отмечены поля, обязательные для заполнения
B3: Муниципальное образование*:
B4: Предмет*:
B5: Количество участников*:
B6: Уровень обучения (класс)*:
B7: Дата проведения*:
B8: Максимально возможное
B9: количество баллов:
A10: Пример: | B10: Иванов | C10: Иван | D10: Иванович | E10: М | F10: 36078 | G10: Российская Федерация | H10: имеются - если участник имеет недостатки в физическом и (или)психическом развитии, подтвержденные документально | I10: Муниципальное бюджетное общеобразовательное учреждение «Средняя общеобразовательная школа №12» муниципального образования городской округ Симферополь Республики Крым | J10: 10 | K10: Победитель, Призёр, Участник/Победитель, Призёр регионального этапа 2014/15 у.г. | L10: 100 | M10: Иванова Марина Ивановна
A11: № | B11: Фамилия* | C11: Имя* | D11: Отчество* | E11: Пол* | F11: Дата рождения* | G11: Гражданство* | H11: Ограниченные возможности здоровья (имеются/не имеются)* | I11: Полное название общеобразовательного учреждения по уставу* | J11: Класс обучения* | K11: Статус участника* | L11: Результат (балл)* | M11: ФИО учителя, подготовившего участника олимпиады*
B22: * - В случае если участник выступает за более старший класс дополнительно указать: обучается в ____ классе.
B25: Председатель жюри __________________ / / | D25: _________________________________________
Q26: контактный телефон председателя жюри
B28: Председатель оргкомитета муниципального этапа олимпиады ___________ / /
N29: подпись | P29: Ф.И.О.

Sheet 5 класс
B1: Итоговая (рейтинговая) таблица результатов участников муниципального этапа всероссийской олимпиады школьников
A2: * - отмечены поля, обязательные для заполнения
B3: Муниципальное образование*: | C3: ='11 класс'!$I$12 -> Муниципальное бюджетное общеобразовательное учреждение "Школа-гимназия № 39 им. Крейзера Я.Г." муниципального образования городской округ Симферополь Респулики Крым
B4: Предмет*: | C4: литература
B5: Количество участников*: | C5: 1
B6: Уровень обучения (класс)*: | C6: 5
B7: Дата проведения*: | C7: 46303
B8: Максимально возможное
B9: количество баллов: | C9: 61
A10: Пример: | B10: Иванов | C10: Иван | D10: Иванович | E10: М | F10: 36078 | G10: Российская Федерация | H10: имеются - если участник имеет недостатки в физическом и (или)психическом развитии, подтвержденные документально | I10: Муниципальное бюджетное общеобразовательное учреждение «Средняя общеобразовательная школа №12» муниципального образования городской округ Симферополь Республики Крым | J10: 10 | K10: Победитель, Призёр, Участник/Победитель, Призёр регионального этапа 2014/15 у.г. | L10: 100 | M10: Иванова Марина Ивановна
A11: № | B11: Фамилия* | C11: Имя* | D11: Отчество* | E11: Пол* | F11: Дата рождения* | G11: Гражданство* | H11: Ограниченные возможности здоровья (имеются/не имеются)* | I11: Полное название общеобразовательного учреждения по уставу* | J11: Класс обучения* | K11: Статус участника* | L11: Результат (балл)* | M11: ФИО учителя, подготовившего участника олимпиады*
A12: 1 | B12: Чарухина | C12: Марина | D12: Александровна | E12: Ж | F12: 42155 | G12: Российская Федерация | H12: не имеются | I12: ='11 класс'!$I$12 -> Муниципальное бюджетное общеобразовательное учреждение "Школа-гимназия № 39 им. Крейзера Я.Г." муниципального образования городской округ Симферополь Респулики Крым | J12: 5-А | K12: Победитель | L12: 42 | M12: Клесова Людмила Васильевна
B22: * - В случае если участник выступает за более старший класс дополнительно указать: обучается в ____ классе.
B25: Председатель жюри __________________ / / | D25: Быкова М.О.
D26: Буравцова С.А.
D27: Киселева М.А.
B28: Председатель оргкомитета муниципального этапа олимпиады ___________ / /

Sheet 6 класс
B1: Итоговая (рейтинговая) таблица результатов участников муниципального этапа всероссийской олимпиады школьников
A2: * - отмечены поля, обязательные для заполнения
B3: Муниципальное образование*: | C3: ='11 класс'!$I$12 -> Муниципальное бюджетное общеобразовательное учреждение "Школа-гимназия № 39 им. Крейзера Я.Г." муниципального образования городской округ Симферополь Респулики Крым
B4: Предмет*: | C4: литература
B5: Количество участников*: | C5: 7
B6: Уровень обучения (класс)*: | C6: 6
B7: Дата проведения*: | C7: 46303
B8: Максимально возможное
B9: количество баллов: | C9: 61
A10: Пример: | B10: Иванов | C10: Иван | D10: Иванович | E10: М | F10: 36078 | G10: Российская Федерация | H10: имеются - если участник имеет недостатки в физическом и (или)психическом развитии, подтвержденные документально | I10: Муниципальное бюджетное общеобразовательное учреждение «Средняя общеобразовательная школа №12» муниципального образования городской округ Симферополь Республики Крым | J10: 10 | K10: Победитель, Призёр, Участник/Победитель, Призёр регионального этапа 2014/15 у.г. | L10: 100 | M10: Иванова Марина Ивановна
A11: № | B11: Фамилия* | C11: Имя* | D11: Отчество* | E11: Пол* | F11: Дата рождения* | G11: Гражданство* | H11: Ограниченные возможности здоровья (имеются/не имеются)* | I11: Полное название общеобразовательного учреждения по уставу* | J11: Класс обучения* | K11: Статус участника* | L11: Результат (балл)* | M11: ФИО учителя, подготовившего участника олимпиады*
A12: 1 | B12: Мусулевская | C12: Влада | D12: Андреевна | E12: Ж | F12: 41686 | G12: =$G$10 -> Российская Федерация | H12: не имеются | I12: ='11 класс'!$I$12 -> Муниципальное бюджетное общеобразовательное учреждение "Школа-гимназия № 39 им. Крейзера Я.Г." муниципального образования городской округ Симферополь Респулики Крым | J12: 6-В | K12: Победитель | L12: 52 | M12: Быкова Марина Олеговна
A13: 2 | B13: Дереш | C13: Дарина | D13: Сергеевна | E13: Ж | F13: 41828 | G13: =$G$12 -> Российская Федерация | H13: =$H$12 -> не имеются | I13: ='11 класс'!$I$12 -> Муниципальное бюджетное общеобразовательное учреждение "Школа-гимназия № 39 им. Крейзера Я.Г." муниципального образования городской округ Симферополь Респулики Крым | J13: 6-Б | K13: Призер | L13: 51 | M13: Буравцова Светлана Александровна
A14: 3 | B14: Бабенко | C14: Антон | D14: Сергеевич | E14: М | F14: 41841 | G14: =$G$12 -> Российская Федерация | H14: =$H$12 -> не имеются | I14: ='11 класс'!$I$12 -> Муниципальное бюджетное общеобразовательное учреждение "Школа-гимназия № 39 им. Крейзера Я.Г." муниципального образования городской округ Симферополь Респулики Крым | J14: 6-А | K14: Участник | L14: 33 | M14: Киселева Марина Анатольевна
A15: 4 | B15: Ромашина | C15: Виктория | D15: Денисовна | E15: Ж | F15: 41935 | G15: =$G$12 -> Российская Федерация | H15: =$H$12 -> не имеются | I15: ='11 класс'!$I$12 -> Муниципальное бюджетное общеобразовательное учреждение "Школа-гимназия № 39 им. Крейзера Я.Г." муниципального образования городской округ Симферополь Респулики Крым | J15: 6-А | K15: Участник | L15: 32 | M15: =$M$14 -> Киселева Марина Анатольевна
A16: 5 | B16: Бабаян | C16: Кира | D16: Севаковна | E16: Ж | F16: 41964 | G16: =$G$12 -> Российская Федерация | H16: =$H$12 -> не имеются | I16: ='11 класс'!$I$12 -> Муниципальное бюджетное общеобразовательное учреждение "Школа-гимназия № 39 им. Крейзера Я.Г." муниципального образования городской округ Симферополь Респулики Крым | J16: 6-В | K16: Участник | L16: 21 | M16: =$M$12 -> Быкова Марина Олеговна
A17: 6 | B17: Смирнова | C17: Алиса | D17: Романовна | E17: Ж | F17: 41965 | G17: =$G$12 -> Российская Федерация | H17: =$H$12 -> не имеются | I17: ='11 класс'!$I$12 -> Муниципальное бюджетное общеобразовательное учреждение "Школа-гимназия № 39 им. Крейзера Я.Г." муниципального образования городской округ Симферополь Респулики Крым | J17: 6-В | K17: Участник | L17: 20 | M17: =$M$12 -> Быкова Марина Олеговна
A18: 7 | B18: Шмулий | C18: Кристина | D18: Олеговна | E18: Ж | F18: 41996 | G18: =$G$12 -> Российская Федерация | H18: =$H$12 -> не имеются | I18: ='11 класс'!$I$12 -> Муниципальное бюджетное общеобразовательное учреждение "Школа-гимназия № 39 им. Крейзера Я.Г." муниципального образования городской округ Симферополь Респулики Крым | J18: 6-В | K18: Участник | L18: 20 | M18: =$M$12 -> Быкова Марина Олеговна
B23: * - В случае если участник выступает за более старший класс дополнительно указать: обучается в ____ классе.
B26: Председатель жюри __________________ / / | D26: Быкова М.О.
D27: Киселева М.А.
D28: Бонданева Н.В.
B29: Председатель оргкомитета муниципального этапа олимпиады ___________ / /

Sheet 7 класс
B1: Итоговая (рейтинговая) таблица результатов участников муниципального этапа всероссийской олимпиады школьников
A2: * - отмечены поля, обязательные для заполнения
B3: Муниципальное образование*: | C3: ='6 класс'!$C$3 -> Муниципальное бюджетное общеобразовательное учреждение "Школа-гимназия № 39 им. Крейзера Я.Г." муниципального образования городской округ Симферополь Респулики Крым
B4: Предмет*: | C4: литература
B5: Количество участников*: | C5: 4
B6: Уровень обучения (класс)*: | C6: 7
B7: Дата проведения*: | C7: 46303
B8: Максимально возможное
B9: количество баллов: | C9: 85
A10: Пример: | B10: Иванов | C10: Иван | D10: Иванович | E10: М | F10: 36078 | G10: Российская Федерация | H10: имеются - если участник имеет недостатки в физическом и (или)психическом развитии, подтвержденные документально | I10: Муниципальное бюджетное общеобразовательное учреждение «Средняя общеобразовательная школа №12» муниципального образования городской округ Симферополь Республики Крым | J10: 10 | K10: Победитель, Призёр, Участник/Победитель, Призёр регионального этапа 2014/15 у.г. | L10: 100 | M10: Иванова Марина Ивановна
A11: № | B11: Фамилия* | C11: Имя* | D11: Отчество* | E11: Пол* | F11: Дата рождения* | G11: Гражданство* | H11: Ограниченные возможности здоровья (имеются/не имеются)* | I11: Полное название общеобразовательного учреждения по уставу* | J11: Класс обучения* | K11: Статус участника* | L11: Результат (балл)* | M11: ФИО учителя, подготовившего участника олимпиады*
A12: 1 | B12: Андрейчук | C12: Екатерина | D12: Максисовна | E12: Ж | F12: 41542 | G12: =$G$10 -> Российская Федерация | H12: не имеются | I12: ='6 класс'!$C$3 -> Муниципальное бюджетное общеобразовательное учреждение "Школа-гимназия № 39 им. Крейзера Я.Г." муниципального образования городской округ Симферополь Респулики Крым | J12: 7-В | K12: Победитель | L12: 60.5 | M12: Буравцова Светлана Александровна
A13: 2 | B13: Антонова | C13: Татьяна | D13: Валерьевна | E13: Ж | F13: 41506 | G13: =$G$10 -> Российская Федерация | H13: =$H$12 -> не имеются | I13: ='6 класс'!$C$3 -> Муниципальное бюджетное общеобразовательное учреждение "Школа-гимназия № 39 им. Крейзера Я.Г." муниципального образования городской округ Симферополь Респулики Крым | J13: 7-В | K13: Участник | L13: 54.5 | M13: =$M$12 -> Буравцова Светлана Александровна
A14: 3 | B14: Кугук | C14: Алиса | D14: Александровна | E14: Ж | F14: 41767 | G14: =$G$10 -> Российская Федерация | H14: =$H$12 -> не имеются | I14: ='6 класс'!$C$3 -> Муниципальное бюджетное общеобразовательное учреждение "Школа-гимназия № 39 им. Крейзера Я.Г." муниципального образования городской округ Симферополь Респулики Крым | J14: 7-В | K14: Участник | L14: 54.5 | M14: =$M$12 -> Буравцова Светлана Александровна
A15: 4 | B15: Лаврешкина | C15: Дарина | D15: Петровна | E15: Ж | F15: 41518 | G15: =$G$10 -> Российская Федерация | H15: =$H$12 -> не имеются | I15: ='6 класс'!$C$3 -> Муниципальное бюджетное общеобразовательное учреждение "Школа-гимназия № 39 им. Крейзера Я.Г." муниципального образования городской округ Симферополь Респулики Крым | J15: 7-В | K15: Участник | L15: 28.5 | M15: =$M$12 -> Буравцова Светлана Александровна
B22: * - В случае если участник выступает за более старший класс дополнительно указать: обучается в ____ классе.
B25: Председатель жюри __________________ / / | D25: Быкова М.О.
D26: Буравцова С.А.
D27: Бондарева Н.В.
B28: Председатель оргкомитета муниципального этапа олимпиады ___________ / /

Sheet 8 класс
B1: Итоговая (рейтинговая) таблица результатов участников муниципального этапа всероссийской олимпиады школьников
A2: * - отмечены поля, обязательные для заполнения
B3: Муниципальное образование*: | C3: ='7 класс'!$C$3 -> Муниципальное бюджетное общеобразовательное учреждение "Школа-гимназия № 39 им. Крейзера Я.Г." муниципального образования городской округ Симферополь Респулики Крым
B4: Предмет*: | C4: литература
B5: Количество участников*: | C5: 5
B6: Уровень обучения (класс)*: | C6: 8
B7: Дата проведения*: | C7: 46303
B8: Максимально возможное
B9: количество баллов: | C9: 85
A10: Пример: | B10: Иванов | C10: Иван | D10: Иванович | E10: М | F10: 36078 | G10: Российская Федерация | H10: имеются - если участник имеет недостатки в физическом и (или)психическом развитии, подтвержденные документально | I10: Муниципальное бюджетное общеобразовательное учреждение «Средняя общеобразовательная школа №12» муниципального образования городской округ Симферополь Республики Крым | J10: 10 | K10: Победитель, Призёр, Участник/Победитель, Призёр регионального этапа 2014/15 у.г. | L10: 100 | M10: Иванова Марина Ивановна
A11: № | B11: Фамилия* | C11: Имя* | D11: Отчество* | E11: Пол* | F11: Дата рождения* | G11: Гражданство* | H11: Ограниченные возможности здоровья (имеются/не имеются)* | I11: Полное название общеобразовательного учреждения по уставу* | J11: Класс обучения* | K11: Статус участника* | L11: Результат (балл)* | M11: ФИО учителя, подготовившего участника олимпиады*
A12: 1 | B12: Семилетова | C12: Александра | D12: Андреевна | E12: Ж | F12: 40997 | G12: =$G$10 -> Российская Федерация | H12: не имеются | I12: ='7 класс'!$C$3 -> Муниципальное бюджетное общеобразовательное учреждение "Школа-гимназия № 39 им. Крейзера Я.Г." муниципального образования городской округ Симферополь Респулики Крым | J12: 8-В | K12: Победитель | L12: 50 | M12: Буравцова Светлана Александровна
A13: 2 | B13: Солодовников | C13: Андрей | D13: Евгеньевич | E13: М | F13: 41116 | G13: =$G$10 -> Российская Федерация | H13: =$H$12 -> не имеются | I13: ='7 класс'!$C$3 -> Муниципальное бюджетное общеобразовательное учреждение "Школа-гимназия № 39 им. Крейзера Я.Г." муниципального образования городской округ Симферополь Респулики Крым | J13: 8-Б | K13: Призер | L13: 44 | M13: Бондарева Наталья Васильевна
A14: 3 | B14: Горишная | C14: Каролина | D14: Константиновна | E14: Ж | F14: 41117 | G14: =$G$10 -> Российская Федерация | H14: =$H$12 -> не имеются | I14: ='7 класс'!$C$3 -> Муниципальное бюджетное общеобразовательное учреждение "Школа-гимназия № 39 им. Крейзера Я.Г." муниципального образования городской округ Симферополь Респулики Крым | J14: 8-А | K14: Участник | L14: 39 | M14: Бенли Елена Алексеевна
A15: 4 | B15: Перская | C15: Кристина | D15: Сергеевна | E15: Ж | F15: 40954 | G15: =$G$10 -> Российская Федерация | H15: =$H$12 -> не имеются | I15: ='7 класс'!$C$3 -> Муниципальное бюджетное общеобразовательное учреждение "Школа-гимназия № 39 им. Крейзера Я.Г." муниципального образования городской округ Симферополь Респулики Крым | J15: 8-А | K15: Участник | L15: 11 | M15: =$M$14 -> Бенли Елена Алексеевна
A16: 5 | B16: Аносова | C16: Анастасия | D16: Станиславовна | E16: Ж | F16: 41130 | G16: =$G$10 -> Российская Федерация | H16: =$H$12 -> не имеются | I16: ='7 класс'!$C$3 -> Муниципальное бюджетное общеобразовательное учреждение "Школа-гимназия № 39 им. Крейзера Я.Г." муниципального образования городской округ Симферополь Респулики Крым | J16: 8-А | K16: Участник | L16: 8 | M16: =$M$15 -> Бенли Елена Алексеевна
B22: * - В случае если участник выступает за более старший класс дополнительно указать: обучается в ____ классе.
B25: Председатель жюри __________________ / / | D25: Быкова М.О.
D26: Бенли Е.А.
D27: Бондарева Н.В.
B28: Председатель оргкомитета муниципального этапа олимпиады ___________ / /

Sheet 10 класс
B1: Итоговая (рейтинговая) таблица результатов участников муниципального этапа всероссийской олимпиады школьников
A2: * - отмечены поля, обязательные для заполнения
B3: Муниципальное образование*: | C3: ='11 класс'!$I$12 -> Муниципальное бюджетное общеобразовательное учреждение "Школа-гимназия № 39 им. Крейзера Я.Г." муниципального образования городской округ Симферополь Респулики Крым
B4: Предмет*: | C4: литература
B5: Количество участников*: | C5: 1
B6: Уровень обучения (класс)*: | C6: 10
B7: Дата проведения*: | C7: 46303
B8: Максимально возможное
B9: количество баллов: | C9: 65
A10: Пример: | B10: Иванов | C10: Иван | D10: Иванович | E10: М | F10: 36078 | G10: Российская Федерация | H10: имеются - если участник имеет недостатки в физическом и (или)психическом развитии, подтвержденные документально | I10: Муниципальное бюджетное общеобразовательное учреждение «Средняя общеобразовательная школа №12» муниципального образования городской округ Симферополь Республики Крым | J10: 10 | K10: Победитель, Призёр, Участник/Победитель, Призёр регионального этапа 2014/15 у.г. | L10: 100 | M10: Иванова Марина Ивановна
A11: № | B11: Фамилия* | C11: Имя* | D11: Отчество* | E11: Пол* | F11: Дата рождения* | G11: Гражданство* | H11: Ограниченные возможности здоровья (имеются/не имеются)* | I11: Полное название общеобразовательного учреждения по уставу* | J11: Класс обучения* | K11: Статус участника* | L11: Результат (балл)* | M11: ФИО учителя, подготовившего участника олимпиады*
A12: 1 | B12: Патраманская | C12: Анастасия | D12: Артемовна | E12: Ж | F12: 40298 | G12: =$G$10 -> Российская Федерация | H12: не имеются | I12: ='11 класс'!$I$12 -> Муниципальное бюджетное общеобразовательное учреждение "Школа-гимназия № 39 им. Крейзера Я.Г." муниципального образования городской округ Симферополь Респулики Крым | J12: 10-Б | K12: Победитель | L12: 56 | M12: Буравцова Светлана Александровна
B22: * - В случае если участник выступает за более старший класс дополнительно указать: обучается в ____ классе.
B25: Председатель жюри __________________ / / | D25: Быква М.О.
D26: Бенли Е.А.
D27: Бондарева Н.В.
B28: Председатель оргкомитета муниципального этапа олимпиады ___________ / /

Sheet 11 класс
B1: Итоговая (рейтинговая) таблица результатов участников муниципального этапа всероссийской олимпиады школьников
A2: * - отмечены поля, обязательные для заполнения
B3: Муниципальное образование*: | C3: =$I$12 -> Муниципальное бюджетное общеобразовательное учреждение "Школа-гимназия № 39 им. Крейзера Я.Г." муниципального образования городской округ Симферополь Респулики Крым
B4: Предмет*: | C4: литература
B5: Количество участников*: | C5: 1
B6: Уровень обучения (класс)*: | C6: 11
B7: Дата проведения*: | C7: 46303
B8: Максимально возможное
B9: количество баллов: | C9: 65
A10: Пример: | B10: Иванов | C10: Иван | D10: Иванович | E10: М | F10: 36078 | G10: Российская Федерация | H10: имеются - если участник имеет недостатки в физическом и (или)психическом развитии, подтвержденные документально | I10: Муниципальное бюджетное общеобразовательное учреждение «Средняя общеобразовательная школа №12» муниципального образования городской округ Симферополь Республики Крым | J10: 10 | K10: Победитель, Призёр, Участник/Победитель, Призёр регионального этапа 2014/15 у.г. | L10: 100 | M10: Иванова Марина Ивановна
A11: № | B11: Фамилия* | C11: Имя* | D11: Отчество* | E11: Пол* | F11: Дата рождения* | G11: Гражданство* | H11: Ограниченные возможности здоровья (имеются/не имеются)* | I11: Полное название общеобразовательного учреждения по уставу* | J11: Класс обучения* | K11: Статус участника* | L11: Результат (балл)* | M11: ФИО учителя, подготовившего участника олимпиады*
A12: 1 | B12: Малкус | C12: Регина | D12: Борисовна | E12: Ж | F12: 40065 | G12: =$G$10 -> Российская Федерация | H12: не имеются | I12: Муниципальное бюджетное общеобразовательное учреждение "Школа-гимназия № 39 им. Крейзера Я.Г." муниципального образования городской округ Симферополь Респулики Крым | J12: 11-А | K12: Победитель | L12: 52 | M12: Бенли Елена Алексеевна
B22: * - В случае если участник выступает за более старший класс дополнительно указать: обучается в ____ классе.
B25: Председатель жюри __________________ / / | D25: Быкова М.О.
D26: Бенли Е.А.
D27: Бондарева Н.В.
B28: Председатель оргкомитета муниципального этапа олимпиады ___________ / /

Sheet Лист2
B3: Уровень (класс) обучения | D3: Тип диплома | F3: Пол | H3: Наличия гражданства РФ | J3: Уровень (класс) обучения
D4: Участник
B5: 5 | D5: Победитель | F5: М | H5: Да | J5: 9
B6: 6 | D6: Призер | F6: Ж | H6: Нет | J6: 10
B7: 7 | J7: 11
B8: 8
B9: 9
B10: 10
B11: 11
