Workbook
Name date_begin: Лист2!$F$4
Name date_end: Лист2!$F$5
Name level: Лист2!$J$4:$J$7
Name rf: Лист2!$H$4:$H$6
Name sex: Лист2!$F$4:$F$6
Name t_class: Лист2!$B$4:$B$11
Name t_date: Лист2!$F$4:$F$5
Name t_type: Лист2!$D$4:$D$6
Name type: Лист2!$D$4:$D$6

Sheet Форма для загрузки
B1: Итоговая (рейтинговая) таблица результатов участников муниципального этапа всероссийской олимпиады школьников
A2: * - отмечены поля, обязательные для заполнения
B3: Муниципальное образование*:
B4: Предмет*:
B5: Количество участников*:
B6: Уровень обучения (класс)*:
B7: Дата проведения*:
B8: Максимально возможное
B9: количество баллов:
A10: Пример: | B10: Иванов | C10: Иван | D10: Иванович | E10: М | F10: 36078 | G10: Российская Федерация | H10: имеются - если участник имеет недостатки в физическом и (или)психическом развитии, подтвержденные документально | I10: Муниципальное бюджетное общеобразовательное учреждение «Средняя общеобразовательная школа №12» муниципального образования городской округ Симферополь Республики Крым | J10: 10 | K10: Победитель, Призёр, Участник/Победитель, Призёр регионального этапа 2014/15 у.г. | L10: 100 | M10: Иванова Марина Ивановна
A11: № | B11: Фамилия* | C11: Имя* | D11: Отчество* | E11: Пол* | F11: Дата рождения* | G11: Гражданство* | H11: Ограниченные возможности здоровья (имеются/не имеются)* | I11: Полное название общеобразовательного учреждения по уставу* | J11: Класс обучения* | K11: Статус участника* | L11: Результат (балл)* | M11: ФИО учителя, подготовившего участника олимпиады*
B22: * - В случае если участник выступает за более старший класс дополнительно указать: обучается в ____ классе.
B25: Председатель жюри __________________ / / | D25: _________________________________________
Q26: контактный телефон председателя жюри
B28: Председатель оргкомитета муниципального этапа олимпиады ___________ / /
N29: подпись | P29: Ф.И.О.

Sheet 5 класс
B1: Итоговая (рейтинговая) таблица результатов участников муниципального этапа всероссийской олимпиады школьников
A2: * - отмечены поля, обязательные для заполнения
B3: Муниципальное образование*:
B4: Предмет*: | C4: русский язык
B5: Количество участников*: | C5: 7
B6: Уровень обучения (класс)*: | C6: 5
B7: Дата проведения*: | C7: 46307
B8: Максимально возможное
B9: количество баллов: | C9: 28
A10: Пример: | B10: Иванов | C10: Иван | D10: Иванович | E10: М | F10: 36078 | G10: Российская Федерация | H10: имеются - если участник имеет недостатки в физическом и (или)психическом развитии, подтвержденные документально | I10: Муниципальное бюджетное общеобразовательное учреждение «Средняя общеобразовательная школа №12» муниципального образования городской округ Симферополь Республики Крым | J10: 10 | K10: Победитель, Призёр, Участник/Победитель, Призёр регионального этапа 2014/15 у.г. | L10: 100 | M10: Иванова Марина Ивановна
A11: № | B11: Фамилия* | C11: Имя* | D11: Отчество* | E11: Пол* | F11: Дата рождения* | G11: Гражданство* | H11: Ограниченные возможности здоровья (имеются/не имеются)* | I11: Полное название общеобразовательного учреждения по уставу* | J11: Класс обучения* | K11: Статус участника* | L11: Результат (балл)* | M11: ФИО учителя, подготовившего участника олимпиады*
A12: 1 | B12: Чарухина | C12: Марина | D12: Александровна | E12: Ж | F12: 42155 | G12: =$G$10 -> Российская Федерация | H12: не имеются | I12: Муниципальное бюджетное общеобразовательное учреждение «Школа-гимназия № 39 имени Героя Советского Союза Крейзера Я.Г.» муниципального образования городской округ Симферополь Республики Крым | J12: 5-А | K12: Победитель | L12: 24 | M12: Клесова Людмила Васильевна
A13: 2 | B13: Герасименко | C13: Екатерина | D13: Сергеевна | E13: Ж | F13: 42396 | G13: =$G$10 -> Российская Федерация | H13: =$H$12 -> не имеются | I13: Муниципальное бюджетное общеобразовательное учреждение «Школа-гимназия № 39 имени Героя Советского Союза Крейзера Я.Г.» муниципального образования городской округ Симферополь Республики Крым | J13: 5-А | K13: Призер | L13: 21 | M13: =$M$12 -> Клесова Людмила Васильевна
A14: 3 | B14: Алексеенко | C14: Арина | D14: Андреевна | E14: Ж | F14: 42061 | G14: =$G$10 -> Российская Федерация | H14: =$H$12 -> не имеются | I14: Муниципальное бюджетное общеобразовательное учреждение «Школа-гимназия № 39 имени Героя Советского Союза Крейзера Я.Г.» муниципального образования городской округ Симферополь Республики Крым | J14: =$J$13 -> 5-А | K14: Призер | L14: 18 | M14: =$M$12 -> Клесова Людмила Васильевна
A15: 4 | B15: Владимирский | C15: Максим | D15: Юрьевич | E15: М | F15: 42326 | G15: =$G$10 -> Российская Федерация | H15: =$H$12 -> не имеются | I15: Муниципальное бюджетное общеобразовательное учреждение «Школа-гимназия № 39 имени Героя Советского Союза Крейзера Я.Г.» муниципального образования городской округ Симферополь Республики Крым | J15: =$J$13 -> 5-А | K15: Участник | L15: 14 | M15: =$M$12 -> Клесова Людмила Васильевна
A16: 5 | B16: Бурмистрова | C16: Кира | D16: Викторовна | E16: Ж | F16: 42195 | G16: =$G$10 -> Российская Федерация | H16: =$H$12 -> не имеются | I16: Муниципальное бюджетное общеобразовательное учреждение «Школа-гимназия № 39 имени Героя Советского Союза Крейзера Я.Г.» муниципального образования городской округ Симферополь Республики Крым | J16: =$J$13 -> 5-А | K16: Участник | L16: 12.5 | M16: =$M$12 -> Клесова Людмила Васильевна
A17: 6 | B17: Пацюк | C17: Владислав | D17: Викторович | E17: М | F17: 42294 | G17: =$G$10 -> Российская Федерация | H17: =$H$12 -> не имеются | I17: Муниципальное бюджетное общеобразовательное учреждение «Школа-гимназия № 39 имени Героя Советского Союза Крейзера Я.Г.» муниципального образования городской округ Симферополь Республики Крым | J17: =$J$13 -> 5-А | K17: Участник | L17: 8 | M17: =$M$12 -> Клесова Людмила Васильевна
A18: 7 | B18: Корнеев | C18: Роман | D18: Евгеньевич | E18: М | F18: 42515 | G18: =$G$10 -> Российская Федерация | H18: =$H$12 -> не имеются | I18: Муниципальное бюджетное общеобразовательное учреждение «Школа-гимназия № 39 имени Героя Советского Союза Крейзера Я.Г.» муниципального образования городской округ Симферополь Республики Крым | J18: =$J$13 -> 5-А | K18: Участник | L18: 6.5 | M18: =$M$12 -> Клесова Людмила Васильевна
B22: * - В случае если участник выступает за более старший класс дополнительно указать: обучается в ____ классе.
B25: Председатель жюри __________________ / / | D25: Быкова М.О.
D26: Клесова Л.В.
D27: Киселева М.А.
B28: Председатель оргкомитета муниципального этапа олимпиады ___________ / /

Sheet 6 класс
B1: Итоговая (рейтинговая) таблица результатов участников муниципального этапа всероссийской олимпиады школьников
A2: * - отмечены поля, обязательные для заполнения
B3: Муниципальное образование*: | C3: ='5 класс'!$C$3
B4: Предмет*: | C4: русский язык
B5: Количество участников*: | C5: 4
B6: Уровень обучения (класс)*: | C6: 6
B7: Дата проведения*: | C7: 46307
B8: Максимально возможное
B9: количество баллов: | C9: 28
A10: Пример: | B10: Иванов | C10: Иван | D10: Иванович | E10: М | F10: 36078 | G10: Российская Федерация | H10: имеются - если участник имеет недостатки в физическом и (или)психическом развитии, подтвержденные документально | I10: Муниципальное бюджетное общеобразовательное учреждение «Средняя общеобразовательная школа №12» муниципального образования городской округ Симферополь Республики Крым | J10: 10 | K10: Победитель, Призёр, Участник/Победитель, Призёр регионального этапа 2014/15 у.г. | L10: 100 | M10: Иванова Марина Ивановна
A11: № | B11: Фамилия* | C11: Имя* | D11: Отчество* | E11: Пол* | F11: Дата рождения* | G11: Гражданство* | H11: Ограниченные возможности здоровья (имеются/не имеются)* | I11: Полное название общеобразовательного учреждения по уставу* | J11: Класс обучения* | K11: Статус участника* | L11: Результат (балл)* | M11: ФИО учителя, подготовившего участника олимпиады*
A12: 1 | B12: Кульбаченко | C12: Вера | D12: Дмитриевна | E12: Ж | F12: 41834 | G12: =$G$10 -> Российская Федерация | H12: не имеются | I12: Муниципальное бюджетное общеобразовательное учреждение «Школа-гимназия № 39 имени Героя Советского Союза Крейзера Я.Г.» муниципального образования городской округ Симферополь Республики Крым | J12: 6-В | K12: Победитель | L12: 17.5 | M12: Быкова Марина Олеговна
A13: 2 | B13: Мусулевская | C13: Влада | D13: Андреевна | E13: Ж | F13: 41686 | G13: =$G$10 -> Российская Федерация | H13: =$H$12 -> не имеются | I13: Муниципальное бюджетное общеобразовательное учреждение «Школа-гимназия № 39 имени Героя Советского Союза Крейзера Я.Г.» муниципального образования городской округ Симферополь Республики Крым | J13: 6-В | K13: Участник | L13: 14 | M13: =$M$12 -> Быкова Марина Олеговна
A14: 3 | B14: Дерош | C14: Дарина | D14: Сергеевна | E14: Ж | F14: 41747 | G14: =$G$10 -> Российская Федерация | H14: не имеются | I14: Муниципальное бюджетное общеобразовательное учреждение «Школа-гимназия № 39 имени Героя Советского Союза Крейзера Я.Г.» муниципального образования городской округ Симферополь Республики Крым | J14: 6-Б | K14: Участник | L14: 13.5 | M14: Бенли Елена Алексеевна
A15: 4 | B15: Бабаян | C15: Кира | D15: Севаковна | E15: Ж | F15: 41964 | G15: =$G$10 -> Российская Федерация | H15: =$H$12 -> не имеются | I15: Муниципальное бюджетное общеобразовательное учреждение «Школа-гимназия № 39 имени Героя Советского Союза Крейзера Я.Г.» муниципального образования городской округ Симферополь Республики Крым | J15: 6-В | K15: Участник | L15: 10.5 | M15: =$M$12 -> Быкова Марина Олеговна
B22: * - В случае если участник выступает за более старший класс дополнительно указать: обучается в ____ классе.
B25: Председатель жюри __________________ / / | D25: Быкова М.О.
D26: Клесова Л.В.
D27: Киселева М.А.
B28: Председатель оргкомитета муниципального этапа олимпиады ___________ / /

Sheet 7 класс
B1: Итоговая (рейтинговая) таблица результатов участников муниципального этапа всероссийской олимпиады школьников
A2: * - отмечены поля, обязательные для заполнения
B3: Муниципальное образование*: | C3: ='6 класс'!$C$3
B4: Предмет*: | C4: русский язык
B5: Количество участников*: | C5: 12
B6: Уровень обучения (класс)*: | C6: 7
B7: Дата проведения*: | C7: 46307
B8: Максимально возможное
B9: количество баллов: | C9: 41
A10: Пример: | B10: Иванов | C10: Иван | D10: Иванович | E10: М | F10: 36078 | G10: Российская Федерация | H10: имеются - если участник имеет недостатки в физическом и (или)психическом развитии, подтвержденные документально | I10: Муниципальное бюджетное общеобразовательное учреждение «Средняя общеобразовательная школа №12» муниципального образования городской округ Симферополь Республики Крым | J10: 10 | K10: Победитель, Призёр, Участник/Победитель, Призёр регионального этапа 2014/15 у.г. | L10: 100 | M10: Иванова Марина Ивановна
A11: № | B11: Фамилия* | C11: Имя* | D11: Отчество* | E11: Пол* | F11: Дата рождения* | G11: Гражданство* | H11: Ограниченные возможности здоровья (имеются/не имеются)* | I11: Полное название общеобразовательного учреждения по уставу* | J11: Класс обучения* | K11: Статус участника* | L11: Результат (балл)* | M11: ФИО учителя, подготовившего участника олимпиады*
A12: 1 | B12: Андрейчук | C12: Екатерина | D12: Сергеевна | E12: Ж | F12: 41542 | G12: =$G$10 -> Российская Федерация | H12: не имеются | I12: Муниципальное бюджетное общеобразовательное учреждение «Школа-гимназия № 39 имени Героя Советского Союза Крейзера Я.Г.» муниципального образования городской округ Симферополь Республики Крым | J12: 7-В | K12: Победитель | L12: 24.5 | M12: Буравцова Светлана Александровна
A13: 2 | B13: Литовченко | C13: Варвара | D13: Романовна | E13: Ж | F13: 41617 | G13: =$G$10 -> Российская Федерация | H13: =$H$12 -> не имеются | I13: Муниципальное бюджетное общеобразовательное учреждение «Школа-гимназия № 39 имени Героя Советского Союза Крейзера Я.Г.» муниципального образования городской округ Симферополь Республики Крым | J13: 7-А | K13: Призер | L13: 22.5 | M13: Бондарева Наталья Васильевна
A14: 3 | B14: Чарухина | C14: Маргарита | D14: Александровна | E14: Ж | F14: 41605 | G14: =$G$10 -> Российская Федерация | H14: =$H$12 -> не имеются | I14: Муниципальное бюджетное общеобразовательное учреждение «Школа-гимназия № 39 имени Героя Советского Союза Крейзера Я.Г.» муниципального образования городской округ Симферополь Республики Крым | J14: 7-Б | K14: Призер | L14: 21.5 | M14: Клесова Людмила Васильевна
A15: 4 | B15: Антонова | C15: Татьяна | D15: Валерьевна | E15: Ж | F15: 41506 | G15: =$G$10 -> Российская Федерация | H15: =$H$12 -> не имеются | I15: Муниципальное бюджетное общеобразовательное учреждение «Школа-гимназия № 39 имени Героя Советского Союза Крейзера Я.Г.» муниципального образования городской округ Симферополь Республики Крым | J15: 7-В | K15: Призер | L15: 20.5 | M15: =$M$12 -> Буравцова Светлана Александровна
A16: 5 | B16: Рябикова | C16: Ника | D16: Юрьевна | E16: Ж | F16: 41608 | G16: =$G$10 -> Российская Федерация | H16: =$H$12 -> не имеются | I16: Муниципальное бюджетное общеобразовательное учреждение «Школа-гимназия № 39 имени Героя Советского Союза Крейзера Я.Г.» муниципального образования городской округ Симферополь Республики Крым | J16: 7-В | K16: Участник | L16: 18.5 | M16: =$M$12 -> Буравцова Светлана Александровна
A17: 6 | B17: Лаврешкина | C17: Дарина | D17: Петровна | E17: Ж | F17: 41518 | G17: =$G$10 -> Российская Федерация | H17: =$H$12 -> не имеются | I17: Муниципальное бюджетное общеобразовательное учреждение «Школа-гимназия № 39 имени Героя Советского Союза Крейзера Я.Г.» муниципального образования городской округ Симферополь Республики Крым | J17: 7-В | K17: =$K$16 -> Участник | L17: 17.5 | M17: =$M$12 -> Буравцова Светлана Александровна
A18: 7 | B18: Грузд | C18: Валерия | D18: Дмитриевна | E18: Ж | F18: 41560 | G18: =$G$10 -> Российская Федерация | H18: =$H$12 -> не имеются | I18: Муниципальное бюджетное общеобразовательное учреждение «Школа-гимназия № 39 имени Героя Советского Союза Крейзера Я.Г.» муниципального образования городской округ Симферополь Республики Крым | J18: 7-Б | K18: =$K$16 -> Участник | L18: 16 | M18: =$M$14 -> Клесова Людмила Васильевна
A19: 8 | B19: Пацюк | C19: Мирослава | D19: Викторовна | E19: =E13 -> Ж | F19: 41558 | G19: =$G$10 -> Российская Федерация | H19: =$H$12 -> не имеются | I19: Муниципальное бюджетное общеобразовательное учреждение «Школа-гимназия № 39 имени Героя Советского Союза Крейзера Я.Г.» муниципального образования городской округ Симферополь Республики Крым | J19: 7-А | K19: =$K$16 -> Участник | L19: 13.5 | M19: =$M$13 -> Бондарева Наталья Васильевна
A20: 9 | B20: Грузд | C20: Елизавета | D20: Дмитриевна | E20: Ж | F20: 41560 | G20: =$G$10 -> Российская Федерация | H20: =$H$12 -> не имеются | I20: Муниципальное бюджетное общеобразовательное учреждение «Школа-гимназия № 39 имени Героя Советского Союза Крейзера Я.Г.» муниципального образования городской округ Симферополь Республики Крым | J20: 7-Б | K20: =$K$16 -> Участник | L20: 10 | M20: =$M$14 -> Клесова Людмила Васильевна
A21: 10 | B21: Смолдырев | C21: Владислав | D21: Юрьевич | E21: М | F21: 41652 | G21: =$G$10 -> Российская Федерация | H21: =$H$12 -> не имеются | I21: Муниципальное бюджетное общеобразовательное учреждение «Школа-гимназия № 39 имени Героя Советского Союза Крейзера Я.Г.» муниципального образования городской округ Симферополь Республики Крым | J21: 7-Б | K21: =$K$16 -> Участник | L21: 9.5 | M21: =$M$14 -> Клесова Людмила Васильевна
A22: 11 | B22: Борисенко | C22: Егор | D22: Михайлович | E22: М | F22: 41382 | G22: =$G$10 -> Российская Федерация | H22: =$H$12 -> не имеются | I22: Муниципальное бюджетное общеобразовательное учреждение «Школа-гимназия № 39 имени Героя Советского Союза Крейзера Я.Г.» муниципального образования городской округ Симферополь Республики Крым | J22: 7-Б | K22: =$K$16 -> Участник | L22: 8.5 | M22: =$M$14 -> Клесова Людмила Васильевна
A23: 12 | B23: Модина | C23: Анастасия | D23: Владимировна | E23: Ж | F23: 41543 | G23: =$G$10 -> Российская Федерация | H23: =$H$12 -> не имеются | I23: Муниципальное бюджетное общеобразовательное учреждение «Школа-гимназия № 39 имени Героя Советского Союза Крейзера Я.Г.» муниципального образования городской округ Симферополь Республики Крым | J23: 7-Б | K23: =$K$16 -> Участник | L23: 4.5 | M23: =$M$14 -> Клесова Людмила Васильевна
B25: * - В случае если участник выступает за более старший класс дополнительно указать: обучается в ____ классе.
B28: Председатель жюри __________________ / / | D28: Быкова М.О.
D29: Киснлева М.А.
D30: Клесова Л.В.
B31: Председатель оргкомитета муниципального этапа олимпиады ___________ / /

Sheet 8 класс
B1: Итоговая (рейтинговая) таблица результатов участников муниципального этапа всероссийской олимпиады школьников
A2: * - отмечены поля, обязательные для заполнения
B3: Муниципальное образование*: | C3: ='7 класс'!$C$3
B4: Предмет*: | C4: русский язык
B5: Количество участников*: | C5: 13
B6: Уровень обучения (класс)*: | C6: 8
B7: Дата проведения*: | C7: 46307
B8: Максимально возможное
B9: количество баллов: | C9: 41
A10: Пример: | B10: Иванов | C10: Иван | D10: Иванович | E10: М | F10: 36078 | G10: Российская Федерация | H10: имеются - если участник имеет недостатки в физическом и (или)психическом развитии, подтвержденные документально | I10: Муниципальное бюджетное общеобразовательное учреждение «Средняя общеобразовательная школа №12» муниципального образования городской округ Симферополь Республики Крым | J10: 10 | K10: Победитель, Призёр, Участник/Победитель, Призёр регионального этапа 2014/15 у.г. | L10: 100 | M10: Иванова Марина Ивановна
A11: № | B11: Фамилия* | C11: Имя* | D11: Отчество* | E11: Пол* | F11: Дата рождения* | G11: Гражданство* | H11: Ограниченные возможности здоровья (имеются/не имеются)* | I11: Полное название общеобразовательного учреждения по уставу* | J11: Класс обучения* | K11: Статус участника* | L11: Результат (балл)* | M11: ФИО учителя, подготовившего участника олимпиады*
A12: 1 | B12: Мотенко | C12: Любовь | D12: Сергеевна | E12: Ж | F12: 41369 | G12: =$G$10 -> Российская Федерация | H12: не имеются | I12: Муниципальное бюджетное общеобразовательное учреждение «Школа-гимназия № 39 имени Героя Советского Союза Крейзера Я.Г.» муниципального образования городской округ Симферополь Республики Крым | J12: 8-Б | K12: Победитель | L12: 26.6 | M12: Бондарева Наталья Васильевна
A13: 2 | B13: Кисляков | C13: павел | D13: Викторович | E13: М | F13: 41151 | G13: =$G$10 -> Российская Федерация | H13: =$H$12 -> не имеются | I13: Муниципальное бюджетное общеобразовательное учреждение «Школа-гимназия № 39 имени Героя Советского Союза Крейзера Я.Г.» муниципального образования городской округ Симферополь Республики Крым | J13: 8-В | K13: Участник | L13: 15 | M13: Буравцова Светлана Александровна
A14: 3 | B14: Грунтовая | C14: Валерия | D14: Эдуардовна | E14: Ж | F14: 41248 | G14: =$G$10 -> Российская Федерация | H14: =$H$12 -> не имеются | I14: Муниципальное бюджетное общеобразовательное учреждение «Школа-гимназия № 39 имени Героя Советского Союза Крейзера Я.Г.» муниципального образования городской округ Симферополь Республики Крым | J14: 8-Б | K14: =$K$13 -> Участник | L14: 13.5 | M14: =$M$12 -> Бондарева Наталья Васильевна
A15: 4 | B15: Сычёв | C15: Герман | D15: Павлович | E15: М | F15: 40978 | G15: =$G$10 -> Российская Федерация | H15: =$H$12 -> не имеются | I15: Муниципальное бюджетное общеобразовательное учреждение «Школа-гимназия № 39 имени Героя Советского Союза Крейзера Я.Г.» муниципального образования городской округ Симферополь Республики Крым | J15: 8-Б | K15: =$K$13 -> Участник | L15: 13 | M15: =$M$12 -> Бондарева Наталья Васильевна
A16: 5 | B16: Покотило | C16: Владислав | D16: Владимирович | E16: М | F16: 41303 | G16: =$G$10 -> Российская Федерация | H16: =$H$12 -> не имеются | I16: Муниципальное бюджетное общеобразовательное учреждение «Школа-гимназия № 39 имени Героя Советского Союза Крейзера Я.Г.» муниципального образования городской округ Симферополь Республики Крым | J16: 8-Б | K16: =$K$13 -> Участник | L16: 11 | M16: =$M$12 -> Бондарева Наталья Васильевна
A17: 6 | B17: Даниелян | C17: Денис | D17: Севадович | E17: М | F17: 40923 | G17: =$G$10 -> Российская Федерация | H17: =$H$12 -> не имеются | I17: Муниципальное бюджетное общеобразовательное учреждение «Школа-гимназия № 39 имени Героя Советского Союза Крейзера Я.Г.» муниципального образования городской округ Симферополь Республики Крым | J17: 8-Б | K17: =$K$13 -> Участник | L17: 10 | M17: =$M$12 -> Бондарева Наталья Васильевна
A18: 7 | B18: Бешлей | C18: Кирилл | D18: Александрович | E18: М | F18: 40994 | G18: =$G$10 -> Российская Федерация | H18: =$H$12 -> не имеются | I18: Муниципальное бюджетное общеобразовательное учреждение «Школа-гимназия № 39 имени Героя Советского Союза Крейзера Я.Г.» муниципального образования городской округ Симферополь Республики Крым | J18: 8-Б | K18: =$K$13 -> Участник | L18: 10 | M18: =$M$12 -> Бондарева Наталья Васильевна
A19: 8 | B19: Кравчук | C19: Мария | D19: Васильевна | E19: Ж | F19: 41327 | G19: =$G$10 -> Российская Федерация | H19: =$H$12 -> не имеются | I19: Муниципальное бюджетное общеобразовательное учреждение «Школа-гимназия № 39 имени Героя Советского Союза Крейзера Я.Г.» муниципального образования городской округ Симферополь Республики Крым | J19: 8-А | K19: =$K$13 -> Участник | L19: 8.5 | M19: Бенли Елена Алексеевна
A20: 9 | B20: Арабей | C20: Ника | D20: Ярославовна | E20: Ж | F20: 41310 | G20: =$G$10 -> Российская Федерация | H20: =$H$12 -> не имеются | I20: Муниципальное бюджетное общеобразовательное учреждение «Школа-гимназия № 39 имени Героя Советского Союза Крейзера Я.Г.» муниципального образования городской округ Симферополь Республики Крым | J20: 8-А | K20: =$K$13 -> Участник | L20: 8 | M20: =$M$19 -> Бенли Елена Алексеевна
A21: 10 | B21: Маслова | C21: Валерия | D21: Ивановна | E21: Ж | F21: 41284 | G21: =$G$10 -> Российская Федерация | H21: =$H$12 -> не имеются | I21: Муниципальное бюджетное общеобразовательное учреждение «Школа-гимназия № 39 имени Героя Советского Союза Крейзера Я.Г.» муниципального образования городской округ Симферополь Республики Крым | J21: 8-А | K21: =$K$13 -> Участник | L21: 8 | M21: =$M$19 -> Бенли Елена Алексеевна
A22: 11 | B22: Шарапова | C22: Елизавета | D22: Андреевна | E22: Ж | F22: 41543 | G22: =$G$10 -> Российская Федерация | H22: =$H$12 -> не имеются | I22: Муниципальное бюджетное общеобразовательное учреждение «Школа-гимназия № 39 имени Героя Советского Союза Крейзера Я.Г.» муниципального образования городской округ Симферополь Республики Крым | J22: 8-А | K22: =$K$13 -> Участник | L22: 7 | M22: =$M$19 -> Бенли Елена Алексеевна
A23: 12 | B23: Мелкус | C23: Семен | D23: Борисович | E23: М | F23: 41194 | G23: =$G$10 -> Российская Федерация | H23: =$H$12 -> не имеются | I23: Муниципальное бюджетное общеобразовательное учреждение «Школа-гимназия № 39 имени Героя Советского Союза Крейзера Я.Г.» муниципального образования городской округ Симферополь Республики Крым | J23: 8-А | K23: =$K$13 -> Участник | L23: 7 | M23: =$M$19 -> Бенли Елена Алексеевна
A24: 13 | B24: Аносова | C24: Анастасия | D24: Станиславовна | E24: Ж | F24: 41130 | G24: =$G$10 -> Российская Федерация | H24: =$H$12 -> не имеются | I24: Муниципальное бюджетное общеобразовательное учреждение «Школа-гимназия № 39 имени Героя Советского Союза Крейзера Я.Г.» муниципального образования городской округ Симферополь Республики Крым | J24: 8-А | K24: =$K$13 -> Участник | L24: 6.5 | M24: =$M$19 -> Бенли Елена Алексеевна
B26: * - В случае если участник выступает за более старший класс дополнительно указать: обучается в ____ классе.
B29: Председатель жюри __________________ / / | D29: Быкова М.О.
D30: Клесова Л.В.
D31: Киселева М.А.
B32: Председатель оргкомитета муниципального этапа олимпиады ___________ / /

Sheet 9 класс
B1: Итоговая (рейтинговая) таблица результатов участников муниципального этапа всероссийской олимпиады школьников
A2: * - отмечены поля, обязательные для заполнения
B3: Муниципальное образование*: | C3: ='8 класс'!$C$3
B4: Предмет*: | C4: русский язык
B5: Количество участников*: | C5: 2
B6: Уровень обучения (класс)*: | C6: 9
B7: Дата проведения*: | C7: 12.10.2026..
B8: Максимально возможное
B9: количество баллов: | C9: 65
A10: Пример: | B10: Иванов | C10: Иван | D10: Иванович | E10: М | F10: 36078 | G10: Российская Федерация | H10: имеются - если участник имеет недостатки в физическом и (или)психическом развитии, подтвержденные документально | I10: Муниципальное бюджетное общеобразовательное учреждение «Средняя общеобразовательная школа №12» муниципального образования городской округ Симферополь Республики Крым | J10: 10 | K10: Победитель, Призёр, Участник/Победитель, Призёр регионального этапа 2014/15 у.г. | L10: 100 | M10: Иванова Марина Ивановна
A11: № | B11: Фамилия* | C11: Имя* | D11: Отчество* | E11: Пол* | F11: Дата рождения* | G11: Гражданство* | H11: Ограниченные возможности здоровья (имеются/не имеются)* | I11: Полное название общеобразовательного учреждения по уставу* | J11: Класс обучения* | K11: Статус участника* | L11: Результат (балл)* | M11: ФИО учителя, подготовившего участника олимпиады*
A12: 1 | B12: Денисова | C12: Алиса | D12: Дмитриевна | E12: Ж | F12: 40730 | G12: =$G$10 -> Российская Федерация | H12: не имеются | I12: Муниципальное бюджетное общеобразовательное учреждение «Школа-гимназия № 39 имени Героя Советского Союза Крейзера Я.Г.» муниципального образования городской округ Симферополь Республики Крым | J12: 9-Е | K12: Победитель | L12: 51 | M12: Бенли Елена Алексеевна
A13: 2 | B13: Святюк | C13: Дарья | D13: Юрьевна | E13: Ж | F13: 40734 | G13: =$G$10 -> Российская Федерация | H13: =$H$12 -> не имеются | I13: Муниципальное бюджетное общеобразовательное учреждение «Школа-гимназия № 39 имени Героя Советского Союза Крейзера Я.Г.» муниципального образования городской округ Симферополь Республики Крым | J13: 9-К | K13: Участник | L13: 17 | M13: Бондарева Наталья Васильевна
B22: * - В случае если участник выступает за более старший класс дополнительно указать: обучается в ____ классе.
B25: Председатель жюри __________________ / / | D25: Быкова М.О.
D26: Буравцова С.А.
D27: Киселева М.А.
B28: Председатель оргкомитета муниципального этапа олимпиады ___________ / /

Sheet 10 класс
B1: Итоговая (рейтинговая) таблица результатов участников муниципального этапа всероссийской олимпиады школьников
A2: * - отмечены поля, обязательные для заполнения
B3: Муниципальное образование*: | C3: ='9 класс'!$C$3
B4: Предмет*: | C4: русский язык
B5: Количество участников*: | C5: 9
B6: Уровень обучения (класс)*: | C6: 10
B7: Дата проведения*: | C7: 46307
B8: Максимально возможное
B9: количество баллов: | C9: 70
A10: Пример: | B10: Иванов | C10: Иван | D10: Иванович | E10: М | F10: 36078 | G10: Российская Федерация | H10: имеются - если участник имеет недостатки в физическом и (или)психическом развитии, подтвержденные документально | I10: Муниципальное бюджетное общеобразовательное учреждение «Средняя общеобразовательная школа №12» муниципального образования городской округ Симферополь Республики Крым | J10: 10 | K10: Победитель, Призёр, Участник/Победитель, Призёр регионального этапа 2014/15 у.г. | L10: 100 | M10: Иванова Марина Ивановна
A11: № | B11: Фамилия* | C11: Имя* | D11: Отчество* | E11: Пол* | F11: Дата рождения* | G11: Гражданство* | H11: Ограниченные возможности здоровья (имеются/не имеются)* | I11: Полное название общеобразовательного учреждения по уставу* | J11: Класс обучения* | K11: Статус участника* | L11: Результат (балл)* | M11: ФИО учителя, подготовившего участника олимпиады*
A12: 1 | B12: Нурмухаметова | C12: Варвара | D12: Митхатовна | E12: Ж | F12: 40518 | G12: =$G$10 -> Российская Федерация | H12: не имеются | I12: Муниципальное бюджетное общеобразовательное учреждение «Школа-гимназия № 39 имени Героя Советского Союза Крейзера Я.Г.» муниципального образования городской округ Симферополь Республики Крым | J12: 10-А | K12: Победитель | L12: 37 | M12: Киселева Марина Анатольевна
A13: 2 | B13: Плис | C13: Алекса | D13: Эдуардовна | E13: Ж | F13: 40412 | G13: =$G$10 -> Российская Федерация | H13: =$H$12 -> не имеются | I13: Муниципальное бюджетное общеобразовательное учреждение «Школа-гимназия № 39 имени Героя Советского Союза Крейзера Я.Г.» муниципального образования городской округ Симферополь Республики Крым | J13: 10-А | K13: Участник | L13: 35 | M13: =$M$12 -> Киселева Марина Анатольевна
A14: 3 | B14: Амонатиди | C14: Тимур | D14: Александрович | E14: М | F14: 40490 | G14: =$G$10 -> Российская Федерация | H14: =$H$12 -> не имеются | I14: Муниципальное бюджетное общеобразовательное учреждение «Школа-гимназия № 39 имени Героя Советского Союза Крейзера Я.Г.» муниципального образования городской округ Симферополь Республики Крым | J14: 10-А | K14: =$K$13 -> Участник | L14: 33 | M14: =$M$12 -> Киселева Марина Анатольевна
A15: 4 | B15: Шаманская | C15: София | D15: Андреевна | E15: Ж | F15: 40293 | G15: =$G$10 -> Российская Федерация | H15: =$H$12 -> не имеются | I15: Муниципальное бюджетное общеобразовательное учреждение «Школа-гимназия № 39 имени Героя Советского Союза Крейзера Я.Г.» муниципального образования городской округ Симферополь Республики Крым | J15: =$J$14 -> 10-А | K15: =$K$13 -> Участник | L15: 31 | M15: =$M$12 -> Киселева Марина Анатольевна
A16: 5 | B16: Артеменко | C16: София | D16: Сергеевна | E16: Ж | F16: 40322 | G16: =$G$10 -> Российская Федерация | H16: =$H$12 -> не имеются | I16: Муниципальное бюджетное общеобразовательное учреждение «Школа-гимназия № 39 имени Героя Советского Союза Крейзера Я.Г.» муниципального образования городской округ Симферополь Республики Крым | J16: =$J$14 -> 10-А | K16: =$K$13 -> Участник | L16: 28 | M16: =$M$12 -> Киселева Марина Анатольевна
A17: 6 | B17: Бакаева | C17: Дарья | D17: Сергеевна | E17: Ж | F17: 40535 | G17: =$G$10 -> Российская Федерация | H17: =$H$12 -> не имеются | I17: Муниципальное бюджетное общеобразовательное учреждение «Школа-гимназия № 39 имени Героя Советского Союза Крейзера Я.Г.» муниципального образования городской округ Симферополь Республики Крым | J17: =$J$14 -> 10-А | K17: =$K$13 -> Участник | L17: 26 | M17: =$M$12 -> Киселева Марина Анатольевна
A18: 7 | B18: Стеганцов | C18: Матвей | D18: Александрович | E18: М | F18: 40446 | G18: =$G$10 -> Российская Федерация | H18: =$H$12 -> не имеются | I18: Муниципальное бюджетное общеобразовательное учреждение «Школа-гимназия № 39 имени Героя Советского Союза Крейзера Я.Г.» муниципального образования городской округ Симферополь Республики Крым | J18: =$J$14 -> 10-А | K18: =$K$13 -> Участник | L18: 25 | M18: =$M$12 -> Киселева Марина Анатольевна
A19: 8 | B19: Трофимова | C19: Ульяна | D19: Александровна | E19: Ж | F19: 40535 | G19: =$G$10 -> Российская Федерация | H19: =$H$12 -> не имеются | I19: Муниципальное бюджетное общеобразовательное учреждение «Школа-гимназия № 39 имени Героя Советского Союза Крейзера Я.Г.» муниципального образования городской округ Симферополь Республики Крым | J19: =$J$14 -> 10-А | K19: =$K$13 -> Участник | L19: 25 | M19: =$M$12 -> Киселева Марина Анатольевна
A20: 9 | B20: Пухарев | C20: Дмитртй | D20: Александрович | E20: М | F20: 40268 | G20: =$G$10 -> Российская Федерация | H20: =$H$12 -> не имеются | I20: Муниципальное бюджетное общеобразовательное учреждение «Школа-гимназия № 39 имени Героя Советского Союза Крейзера Я.Г.» муниципального образования городской округ Симферополь Республики Крым | J20: =$J$14 -> 10-А | K20: =$K$13 -> Участник | L20: 21 | M20: =$M$12 -> Киселева Марина Анатольевна
B22: * - В случае если участник выступает за более старший класс дополнительно указать: обучается в ____ классе.
B25: Председатель жюри __________________ / / | D25: ='11 класс'!D25 -> Быкова М.О.
D26: ='11 класс'!D26 -> Киселева М.А.
D27: ='11 класс'!D27 -> Бондарева Н.В.
B28: Председатель оргкомитета муниципального этапа олимпиады ___________ / /

Sheet 11 класс
B1: Итоговая (рейтинговая) таблица результатов участников муниципального этапа всероссийской олимпиады школьников
A2: * - отмечены поля, обязательные для заполнения
B3: Муниципальное образование*: | C3: ='9 класс'!$C$3
B4: Предмет*: | C4: русский язык
B5: Количество участников*: | C5: 4
B6: Уровень обучения (класс)*: | C6: 11
B7: Дата проведения*: | C7: 46307
B8: Максимально возможное
B9: количество баллов: | C9: 70
A10: Пример: | B10: Иванов | C10: Иван | D10: Иванович | E10: М | F10: 36078 | G10: Российская Федерация | H10: имеются - если участник имеет недостатки в физическом и (или)психическом развитии, подтвержденные документально | I10: Муниципальное бюджетное общеобразовательное учреждение «Средняя общеобразовательная школа №12» муниципального образования городской округ Симферополь Республики Крым | J10: 10 | K10: Победитель, Призёр, Участник/Победитель, Призёр регионального этапа 2014/15 у.г. | L10: 100 | M10: Иванова Марина Ивановна
A11: № | B11: Фамилия* | C11: Имя* | D11: Отчество* | E11: Пол* | F11: Дата рождения* | G11: Гражданство* | H11: Ограниченные возможности здоровья (имеются/не имеются)* | I11: Полное название общеобразовательного учреждения по уставу* | J11: Класс обучения* | K11: Статус участника* | L11: Результат (балл)* | M11: ФИО учителя, подготовившего участника олимпиады*
A12: 1 | B12: Фролов | C12: Михаил | D12: Николаевич | E12: М | F12: 18.12.200 | G12: =$G$10 -> Российская Федерация | H12: не имеются | I12: Муниципальное бюджетное общеобразовательное учреждение «Школа-гимназия № 39 имени Героя Советского Союза Крейзера Я.Г.» муниципального образования городской округ Симферополь Республики Крым | J12: 11-А | K12: Победитель | L12: 49 | M12: Бенли Елена Алексеевна
A13: 2 | B13: Солак | C13: Александр | D13: Исмаилович | E13: М | F13: 40043 | G13: =$G$10 -> Российская Федерация | H13: =$H$12 -> не имеются | I13: Муниципальное бюджетное общеобразовательное учреждение «Школа-гимназия № 39 имени Героя Советского Союза Крейзера Я.Г.» муниципального образования городской округ Симферополь Республики Крым | J13: 11-А | K13: Призер | L13: 37 | M13: =$M$12 -> Бенли Елена Алексеевна
A14: 3 | B14: Олейник | C14: Богдан | D14: Владимирович | E14: М | F14: 40051 | G14: =$G$10 -> Российская Федерация | H14: =$H$12 -> не имеются | I14: Муниципальное бюджетное общеобразовательное учреждение «Школа-гимназия № 39 имени Героя Советского Союза Крейзера Я.Г.» муниципального образования городской округ Симферополь Республики Крым | J14: =$J$13 -> 11-А | K14: Участник | L14: 31 | M14: =$M$12 -> Бенли Елена Алексеевна
A15: 4 | B15: Лабонин | C15: Владислав | D15: Сергеевич | E15: М | F15: 40151 | G15: =$G$10 -> Российская Федерация | H15: =$H$12 -> не имеются | I15: Муниципальное бюджетное общеобразовательное учреждение «Школа-гимназия № 39 имени Героя Советского Союза Крейзера Я.Г.» муниципального образования городской округ Симферополь Республики Крым | J15: =$J$13 -> 11-А | K15: Участник | L15: 26 | M15: =$M$12 -> Бенли Елена Алексеевна
B22: * - В случае если участник выступает за более старший класс дополнительно указать: обучается в ____ классе.
B25: Председатель жюри __________________ / / | D25: Быкова М.О.
D26: Киселева М.А.
D27: Бондарева Н.В.
B28: Председатель оргкомитета муниципального этапа олимпиады ___________ / /

Sheet Лист2
B3: Уровень (класс) обучения | D3: Тип диплома | F3: Пол | H3: Наличия гражданства РФ | J3: Уровень (класс) обучения
D4: Участник
B5: 5 | D5: Победитель | F5: М | H5: Да | J5: 9
B6: 6 | D6: Призер | F6: Ж | H6: Нет | J6: 10
B7: 7 | J7: 11
B8: 8
B9: 9
B10: 10
B11: 11
