Workbook

Sheet Цикличное меню 12-18 лет
A1: День: Второй
A2: Неделя: первая
A3: Возрастная категория: 12-18 лет
A4: № рецептуры | B4: Прием пищи, наименование блюда | C4: Масса порции | D4: Пищевые | G4: Энергетическая ценность | H4: Витамины ( мг) | K4: Минеральные вещества (мг)
D5: вещества
D6: Б | E6: Ж | F6: У | H6: А | I6: В1 | J6: С | K6: Са | L6: P | M6: Fe
B7: Завтрак
A8: 304 | B8: Рис отварной | C8: 180 | D8: =24.3*C8/1000 -> 4.374 | E8: =35.8*C8/1000 -> 6.444 | F8: =244.6*C8/1000 -> 44.028 | G8: =1398*C8/1000 -> 251.64 | H8: =0 -> 0 | I8: =0.2*C8/1000 -> 0.036 | J8: =0 -> 0 | K8: =9.1*C8/1000 -> 1.638 | L8: =406.3*C8/1000 -> 73.134 | M8: =3.5*C8/1000 -> 0.63
A9: 229 | B9: Рыба тушеная с овощами | C9: 100 | D9: =97.5*C9/1000 -> 9.75 | E9: =49.5*C9/1000 -> 4.95 | F9: =38*C9/1000 -> 3.8 | G9: =1050*C9/1000 -> 105 | H9: =58.2*C9/1000 -> 5.82 | I9: =0.5*C9/1000 -> 0.05 | J9: =37.3*C9/1000 -> 3.73 | K9: =390.7*C9/1000 -> 39.07 | L9: =1621.9*C9/1000 -> 162.19 | M9: =8.5*C9/1000 -> 0.85
A10: 377 | B10: Чай с сахаром | C10: 200 | D10: 0.1 | E10: 0 | F10: 15.2 | G10: 62 | H10: 0.1 | I10: 0 | J10: 2.8 | K10: 14.2 | L10: 4.4 | M10: 0.4
A11: 14 | B11: Масло сливочное | C11: 10 | D11: =8*C11/1000 -> 0.08 | E11: =725*C11/1000 -> 7.25 | F11: =13*C11/1000 -> 0.13 | G11: =6600*C11/1000 -> 66 | H11: =4000*C11/1000 -> 40 | I11: =0 -> 0 | J11: =0 -> 0 | K11: =240*C11/1000 -> 2.4 | L11: =300*C11/1000 -> 3 | M11: =2*C11/1000 -> 0.02
B12: Хлеб пшеничный | C12: 60 | D12: =107*C12/1000 -> 6.42 | E12: =45*C12/1000 -> 2.7 | F12: =435*C12/1000 -> 26.1 | G12: =2740*C12/1000 -> 164.4 | H12: =0 -> 0 | I12: =4.1*C12/1000 -> 0.246 | J12: =2*C12/1000 -> 0.12 | K12: =1250*C12/1000 -> 75 | L12: =1290*C12/1000 -> 77.4 | M12: =36*C12/1000 -> 2.16
B13: Хлеб ржаной | C13: 30 | D13: =85*C13/1000 -> 2.55 | E13: =33*C13/1000 -> 0.99 | F13: =425*C13/1000 -> 12.75 | G13: =2590*C13/1000 -> 77.7 | H13: =0 -> 0 | I13: =4.3*C13/1000 -> 0.129 | J13: =4*C13/1000 -> 0.12 | K13: =730*C13/1000 -> 21.9 | L13: =1250*C13/1000 -> 37.5 | M13: =28.3*C13/1000 -> 0.849
B14: итого | C14: =SUM(C8:C13) -> 580 | D14: =SUM(D8:D13) -> 23.274 | E14: =SUM(E8:E13) -> 22.334 | F14: =SUM(F8:F13) -> 102.008 | G14: =SUM(G8:G13) -> 726.74 | H14: =SUM(H8:H13) -> 45.92 | I14: =SUM(I8:I13) -> 0.461 | J14: =SUM(J8:J13) -> 6.77 | ... M14: =SUM(M8:M13) -> 4.909
B15: Обед
A16: 73 | B16: Икра кабачковая | C16: 100 | D16: =14.2*C16/1000 -> 1.42 | E16: =60.3*C16/1000 -> 6.03 | F16: =62.8*C16/1000 -> 6.28 | G16: =850*C16/1000 -> 85 | H16: =0*C16/1000 -> 0 | I16: =0.3*C16/1000 -> 0.03 | J16: =59.5*C16/1000 -> 5.95 | K16: =307.2*C16/1000 -> 30.72 | L16: =395*C16/1000 -> 39.5 | M16: =10.7*C16/1000 -> 1.07
A17: 88 | B17: Борщ из свежей капусты с картофелем | C17: 250 | D17: =7.1*C17/1000 -> 1.775 | E17: =19.8*C17/1000 -> 4.95 | F17: =31.6*C17/1000 -> 7.9 | G17: =359*C17/1000 -> 89.75 | H17: =0*C17/1000 -> 0 | I17: =0.2*C17/1000 -> 0.05 | J17: =63.1*C17/1000 -> 15.775 | K17: =197*C17/1000 -> 49.25 | L17: =196*C17/1000 -> 49 | M17: =3.3*C17/1000 -> 0.825
A18: 312 | B18: Картофельное пюре | C18: 180 | D18: =20.4*C18/1000 -> 3.672 | E18: =32*C18/1000 -> 5.76 | F18: =136.3*C18/1000 -> 24.534 | G18: =915*C18/1000 -> 164.7 | H18: =0 -> 0 | I18: =0.9*C18/1000 -> 0.162 | J18: =121.1*C18/1000 -> 21.798 | K18: =246.5*C18/1000 -> 44.37 | L18: =577.3*C18/1000 -> 103.914 | M18: =6.7*C18/1000 -> 1.206
A19: 295 | B19: Котлета из рубленной говядины | C19: 100 | D19: =153*C19/1000 -> 15.3 | E19: =294*C19/1000 -> 29.4 | F19: =154.4*C19/1000 -> 15.44 | G19: =3880*C19/1000 -> 388 | H19: =914*C19/1000 -> 91.4 | I19: =1*C19/1000 -> 0.1 | J19: =10.49*C19/1000 -> 1.049 | K19: =555.4*C19/1000 -> 55.54 | L19: =935.4*C19/1000 -> 93.54 | M19: =14.2*C19/1000 -> 1.42
A20: 359 | B20: Кисель из сока плодового | C20: 200 | D20: =1.6*C20/1000 -> 0.32 | E20: =0 -> 0 | F20: =197*C20/1000 -> 39.4 | G20: =800*C20/1000 -> 160 | H20: =0 -> 0 | I20: =0.1*C20/1000 -> 0.02 | J20: =12*C20/1000 -> 2.4 | K20: =112.3*C20/1000 -> 22.46 | L20: =92.5*C20/1000 -> 18.5 | M20: =0.96*C20/1000 -> 0.192
B21: Хлеб пшеничный | C21: 30 | D21: =107*C21/1000 -> 3.21 | E21: =45*C21/1000 -> 1.35 | F21: =435*C21/1000 -> 13.05 | G21: =2740*C21/1000 -> 82.2 | H21: =0 -> 0 | I21: =4.1*C21/1000 -> 0.123 | J21: =2*C21/1000 -> 0.06 | K21: =1250*C21/1000 -> 37.5 | L21: =1290*C21/1000 -> 38.7 | M21: =36*C21/1000 -> 1.08
B22: Хлеб ржаной | C22: 20 | D22: =85*C22/1000 -> 1.7 | E22: =33*C22/1000 -> 0.66 | F22: =425*C22/1000 -> 8.5 | G22: =2590*C22/1000 -> 51.8 | H22: =0 -> 0 | I22: =4.3*C22/1000 -> 0.086 | J22: =4*C22/1000 -> 0.08 | K22: =730*C22/1000 -> 14.6 | L22: =1250*C22/1000 -> 25 | M22: =28.3*C22/1000 -> 0.566
A23: 338 | B23: Яблоко | C23: 100 | D23: =232*C23/1000 -> 23.2 | E23: =295*C23/1000 -> 29.5 | F23: =0 -> 0 | G23: =3600*C23/1000 -> 360 | H23: =2600*C23/1000 -> 260 | I23: =0.3*C23/1000 -> 0.03 | J23: =7*C23/1000 -> 0.7 | K23: =8800*C23/1000 -> 880 | L23: =5000*C23/1000 -> 500 | M23: =10*C23/1000 -> 1
D24: =4*C24/1000 -> 0 | E24: =4*C24/1000 -> 0 | F24: =98*C24/1000 -> 0 | G24: =470*C24/1000 -> 0 | H24: =0 -> 0 | I24: =0.3*C24/1000 -> 0 | J24: =100*C24/1000 -> 0 | K24: =160*C24/1000 -> 0 | L24: =110*C24/1000 -> 0 | M24: =22*C24/1000 -> 0
B25: итого | C25: =SUM(C16:C23) -> 980 | D25: =SUM(D16:D23) -> 50.597 | E25: =SUM(E16:E23) -> 77.65 | F25: =SUM(F16:F23) -> 115.104 | G25: =SUM(G16:G23) -> 1381.45 | H25: =SUM(H16:H23) -> 351.4 | I25: =SUM(I16:I23) -> 0.601 | J25: =SUM(J16:J23) -> 47.812 | ... M25: =SUM(M16:M23) -> 7.359
B26: ИТОГО за день | C26: =C14+C25 -> 1560 | D26: =D14+D25 -> 73.871 | E26: =E14+E25 -> 99.984 | F26: =F14+F25 -> 217.112 | G26: =G14+G25 -> 2108.19 | H26: =H14+H25 -> 397.32 | I26: =I14+I25 -> 1.062 | J26: =J14+J25 -> 54.582 | ... M26: =M14+M25 -> 12.268
B27: Норматив по СанПиН | C27: 1350 | D27: 49.5 | E27: 50.6 | F27: 210.7 | G27: 1496 | H27: 495 | I27: 0.8 | J27: 38.5 | K27: 660 | L27: 660 | M27: 9.9
A37: День: Первый
A38: Неделя: первая
A39: Возрастная категория: 12-18 лет
A40: № рецептуры | B40: Прием пищи, наименование блюда | C40: Масса порции | D40: Пищевые | G40: Энергетическая ценность | H40: Витамины ( мг) | K40: Минеральные вещества (мг)
D41: вещества
D42: Б | E42: Ж | F42: У | H42: А | I42: В1 | J42: С | K42: Са | L42: P | M42: Fe
B43: Завтрак
A44: 173 | B44: Каша вязкая молочная овсяная | C44: 250 | D44: =43.25*C44/1000 -> 10.8125 | E44: =55.3*C44/1000 -> 13.825 | F44: =221.6*C44/1000 -> 55.4 | G44: =1560*C44/1000 -> 390 | H44: =274*C44/1000 -> 68.5 | I44: =0.7*C44/1000 -> 0.175 | J44: =4.8*C44/1000 -> 1.2 | K44: =733.9*C44/1000 -> 183.475 | L44: =1106.5*C44/1000 -> 276.625 | M44: =11.7*C44/1000 -> 2.925
A45: 377 | B45: Чай с сахаром | C45: 200 | D45: =0.35*C45/1000 -> 0.07 | E45: =0.1*C45/1000 -> 0.02 | F45: =75*C45/1000 -> 15 | G45: =300*C45/1000 -> 60 | H45: =0*C45/1000 -> 0 | I45: =0*C45/1000 -> 0 | J45: =14.2*C45/1000 -> 2.84 | K45: =71*C45/1000 -> 14.2 | L45: =14*C45/1000 -> 2.8 | M45: =1.4*C45/1000 -> 0.28
B46: Хлеб пшеничный | C46: 60 | D46: =107*C46/1000 -> 6.42 | E46: =45*C46/1000 -> 2.7 | F46: =435*C46/1000 -> 26.1 | G46: =2740*C46/1000 -> 164.4 | H46: =0 -> 0 | I46: =4.1*C46/1000 -> 0.246 | J46: =2*C46/1000 -> 0.12 | K46: =1250*C46/1000 -> 75 | L46: =1290*C46/1000 -> 77.4 | M46: =36*C46/1000 -> 2.16
B47: Хлеб ржаной | C47: 30 | D47: =85*C47/1000 -> 2.55 | E47: =33*C47/1000 -> 0.99 | F47: =425*C47/1000 -> 12.75 | G47: =2590*C47/1000 -> 77.7 | H47: =0 -> 0 | I47: =4.3*C47/1000 -> 0.129 | J47: =4*C47/1000 -> 0.12 | K47: =730*C47/1000 -> 21.9 | L47: =1250*C47/1000 -> 37.5 | M47: =28.3*C47/1000 -> 0.849
A48: 14 | B48: Масло сливочное | C48: 10 | D48: =8*C48/1000 -> 0.08 | E48: =725*C48/1000 -> 7.25 | F48: =13*C48/1000 -> 0.13 | G48: =6600*C48/1000 -> 66 | H48: =4000*C48/1000 -> 40 | I48: =0 -> 0 | J48: =0 -> 0 | K48: =240*C48/1000 -> 2.4 | L48: =300*C48/1000 -> 3 | M48: =2*C48/1000 -> 0.02
B49: Кисломолочный напиток | C49: 200 | D49: 8.2 | E49: 3 | F49: 11.8 | G49: 114 | H49: 20 | I49: 0.06 | J49: 1.2 | K49: 248 | L49: 190 | M49: 0.2
...

Sheet Распределение по нормам
A1: № рецептуры | B1: Наименование блюда | C1: Выход | D1: Понедельник | E1: Вторник | F1: Среда | G1: Четверг | H1: Пятница | I1: Понедельник | J1: Вторник | K1: Среда | L1: Четверг | M1: Пятница | N1: Кол-во | Q1: Молоко и кислом. пр-ты | R1: Творог | S1: Сметана | T1: Сыр | U1: Масло сливочное | V1: Яйцо (гр) | W1: Мясо | X1: Птица | Y1: Субпродукты говяжьи | Z1: Рыба (филе) | AA1: Картофель | AB1: Овощи | AC1: Фрукты свежие | AD1: Сухофрукты | AE1: Сок фруктовый | AF1: Крупы, бобовые | AG1: Макаронные изделия | AH1: Мука пшеничная | AI1: Дрожжи | AJ1: Крахмал | AK1: Масло растительное | AL1: Чай | AM1: Какао-порошок | AN1: Кофейный напиток | AO1: Сахар | AP1: Соль | AQ1: Хлеб белый | AR1: Хлеб ржаной | AS1: Кондитерские изделия
A2: 173 | B2: Каша вязкая молочная гречневая | C2: 200 | I2: 1 | N2: =SUM(D2:M2) -> 1 | P2: Каша вязкая молочная гречневая | Q2: =100*N2 -> 100 | AF2: =50*N2 -> 50 | AO2: =16*N2 -> 16 | AP2: =0.6*N2 -> 0.6
A3: 376 | B3: Чай с сахаром | C3: 200 | E3: 1 | J3: 1 | M3: 1 | N3: =SUM(D3:M3) -> 3 | P3: Чай с сахаром | AL3: =0.5*N3 -> 1.5 | AO3: =15*N3 -> 45
A4: 382 | B4: Какао с молоком | C4: 200 | D4: 1 | G4: 1 | H4: 1 | K4: 1 | L4: 1 | N4: =SUM(D4:M4) -> 5 | P4: Какао с молоком | Q4: =100*N4 -> 500 | AM4: =4*N4 -> 20 | AO4: =20*N4 -> 100
A5: 379 | B5: Напиток кофейный с молоком | C5: 200 | F5: 1 | I5: 1 | J5: 1 | K5: 1 | M5: 1 | N5: =SUM(D5:M5) -> 5 | P5: Напиток кофейный с молоком | Q5: =100*N5 -> 500 | AN5: =5*N5 -> 25 | AO5: =20*N5 -> 100
B6: Йогурт | C6: 150 | D6: 1 | H6: 1 | N6: =SUM(D6:M6) -> 2 | P6: Йогурт | Q6: =200*N6 -> 400
A7: 389 | B7: Сок плодовый | C7: 200 | H7: 1 | I7: 1 | J7: 1 | L7: 1 | N7: =SUM(D7:M7) -> 4 | P7: Сок плодовый | AE7: =200*N7 -> 800
A8: 349 | B8: Компот из сухофруктов | C8: 200 | F8: 1 | N8: =SUM(D8:M8) -> 1 | P8: Компот из сухофруктов | AD8: =50*N8 -> 50 | AO8: =20*N8 -> 20
A9: 342 | B9: Компот из свеж яблок | C9: 200 | D9: 1 | G9: 1 | N9: =SUM(D9:M9) -> 2 | P9: Компот из свеж яблок | AC9: =40*N9 -> 80 | AO9: =24*N9 -> 48
A10: 359 | B10: Кисель из сока | C10: 200 | E10: 1 | I10: 1 | N10: =SUM(D10:M10) -> 2 | P10: Кисель из сока | AE10: =60*N10 -> 120 | AJ10: =10*N10 -> 20 | AO10: =20*N10 -> 40
B11: Хлеб белый | C11: 30 | D11: 2 | E11: 2 | F11: 2 | G11: 2 | H11: 2 | I11: 2 | J11: 2 | K11: 2 | L11: 2 | M11: 2 | N11: =SUM(D11:M11) -> 20 | P11: Хлеб белый | AQ11: =30*N11 -> 600
B12: Хлеб ржаной | C12: 20 | D12: 2 | E12: 1 | F12: 2 | G12: 2 | H12: 2 | I12: 2 | J12: 1 | K12: 2 | L12: 2 | M12: 2 | N12: =SUM(D12:M12) -> 18 | P12: Хлеб ржаной | AR12: =20*N12 -> 360
A13: 14 | B13: Масло | C13: 5 | G13: 1 | H13: 1 | K13: 2 | N13: =SUM(D13:M13) -> 4 | P13: Масло | U13: =5*N13 -> 20
A14: 14 | B14: Масло | C14: 10 | D14: 1 | E14: 1 | I14: 1 | J14: 1 | K14: 1 | M14: 1 | N14: =SUM(D14:M14) -> 6 | P14: Масло | U14: =10*N14 -> 60
A15: 15 | B15: Сыр | C15: 10 | G15: 1 | H15: 1 | M15: 1 | N15: =SUM(D15:M15) -> 3 | P15: Сыр | T15: =10*N15 -> 30
A16: 208 | B16: Яйцо вареное | C16: 40 | L16: 1 | N16: =SUM(D16:M16) -> 1 | P16: Яйцо | V16: =40*N16 -> 40
A17: 338 | B17: Фрукты | C17: 100 | F17: 1 | G17: 1 | K17: 1 | M17: 1 | N17: =SUM(D17:M17) -> 4 | P17: Фрукты | AC17: =100*N17 -> 400
A18: 338 | B18: Фрукты | C18: 150 | D18: 1 | E18: 1 | J18: 1 | N18: =SUM(D18:M18) -> 3 | P18: Фрукты | AC18: =150*N18 -> 450
B19: Кондитерские изделия | C19: 50 | K19: 1 | N19: =SUM(D19:M19) -> 1 | P19: Кондитерские изделия | AS19: =50*N19 -> 50
A20: 71 | B20: Огурец свежий | C20: 100 | D20: 1 | H20: 1 | J20: 1 | N20: =SUM(D20:M20) -> 3 | P20: Огурец свежий | AB20: =100*N20 -> 300
A21: 71 | B21: Помидора свежая | C21: 100 | F21: 1 | I21: 1 | K21: 1 | M21: 1 | N21: =SUM(D21:M21) -> 4 | P21: Помидора свежая | AB21: =100*N21 -> 400
A22: 45 | B22: Салат из белокочанной капусты | C22: 100 | E22: 1 | H22: 1 | K22: 1 | N22: =SUM(D22:M22) -> 3 | P22: Салат из белокочанной капусты | AB22: =89*N22 -> 267 | AK22: =5*N22 -> 15 | AO22: =5*N22 -> 15 | AP22: =1.5*N22 -> 4.5
A23: 62 | B23: Салат из моркови с сахаром | C23: 100 | G23: 1 | L23: 1 | N23: =SUM(D23:M23) -> 2 | P23: Салат из моркови с сахаром | AB23: =96*N23 -> 192 | AO23: =5*N23 -> 10
A24: 87 | B24: Щи из свежей капусты | C24: 250 | D24: 1 | K24: 1 | N24: =SUM(D24:M24) -> 2 | P24: Щи из свежей капусты | AB24: =92.5*N24 -> 185 | AH24: =2.5*N24 -> 5 | AK24: =5*N24 -> 10 | AP24: =1.25*N24 -> 2.5
A25: 81 | B25: Борщ | C25: 250 | E25: 1 | H25: 1 | M25: 1 | N25: =SUM(D25:M25) -> 3 | P25: Борщ | AB25: =92.5*N25 -> 277.5 | AK25: =5*N25 -> 15 | AO25: =2.5*N25 -> 7.5 | AP25: =1.25*N25 -> 3.75
A26: 104 | B26: Суп картофел с фрикадельками | C26: 250 | L26: 1 | N26: =SUM(D26:M26) -> 1 | P26: Суп картофел с фрикадельками | V26: =3*N26 -> 3 | W26: =40*N26 -> 40 | AA26: =100*N26 -> 100 | AB26: =24*N26 -> 24 | AK26: =3*N26 -> 3 | AP26: =1*N26 -> 1
A27: 102 | B27: Суп картоф с бобовыми | C27: 250 | J27: 1 | N27: =SUM(D27:M27) -> 1 | P27: Суп картоф с бобовыми | AA27: =50*N27 -> 50 | AB27: =22.5*N27 -> 22.5 | AF27: =20*N27 -> 20 | AK27: =5*N27 -> 5 | AP27: =1.25*N27 -> 1.25
A28: 96 | B28: Рассольник Ленинградский | C28: 250 | F28: 1 | I28: 1 | N28: =SUM(D28:M28) -> 2 | P28: Рассольник Ленинградский | AA28: =75*N28 -> 150 | AB28: =30*N28 -> 60 | AF28: =5*N28 -> 10 | AK28: =5*N28 -> 10 | AP28: =1.25*N28 -> 2.5
A29: 103 | B29: Суп картофел с макаронами | C29: 250 | G29: 1 | N29: =SUM(D29:M29) -> 1 | P29: Суп картофел с макаронами | AA29: =75*N29 -> 75 | AB29: =20*N29 -> 20 | AG29: =10*N29 -> 10 | AK29: =2.5*N29 -> 2.5 | AP29: =1.25*N29 -> 1.25
A30: 143 | B30: Рагу из овощей | C30: 200 | E30: 1 | M30: 1 | N30: =SUM(D30:M30) -> 2 | P30: Рагу из овощей | S30: =15*N30 -> 30 | AA30: =64*N30 -> 128 | AB30: =120*N30 -> 240 | AH30: =4.5*N30 -> 9 | AK30: =8*N30 -> 16 | AP30: =1.6*N30 -> 3.2
A31: 304 | B31: Рис отварной | C31: 200 | D31: 1 | L31: 1 | N31: =SUM(D31:M31) -> 2 | P31: Рис отварной | U31: =9*N31 -> 18 | AF31: =72*N31 -> 144 | AP31: =2*N31 -> 4
A32: 310 | B32: Картофель отварной | C32: 200 | M32: 1 | N32: =SUM(D32:M32) -> 1 | P32: Картофель отварной | U32: =7*N32 -> 7 | AA32: =200*N32 -> 200 | AP32: =2*N32 -> 2
A33: 312 | B33: Картофельное пюре | C33: 200 | G33: 1 | H33: 1 | K33: 1 | N33: =SUM(D33:M33) -> 3 | P33: Картофельное пюре | Q33: =30*N33 -> 90 | U33: =9*N33 -> 27 | AA33: =171*N33 -> 513 | AP33: =2*N33 -> 6
A34: 218 | B34: Варенники ленивые с сахаром | C34: 100 | E34: 1 | J34: 1 | N34: =SUM(D34:M34) -> 2 | P34: Варенники ленивые с сахаром | R34: =77.9*N34 -> 155.8 | V34: =5.7*N34 -> 11.4 | AH34: =11*N34 -> 22 | AO34: =15.7*N34 -> 31.4 | AP34: =1.8*N34 -> 3.6
A35: 289 | B35: Рагу из птицы | C35: 200 | D35: 1 | K35: 1 | N35: =SUM(D35:M35) -> 2 | P35: Рагу из птицы | X35: =78*N35 -> 156 | AA35: =91*N35 -> 182 | AB35: =30*N35 -> 60 | AH35: =1*N35 -> 2 | AK35: =7*N35 -> 14 | AP35: =1*N35 -> 2
A36: 291 | B36: Плов из птицы | C36: 250 | J36: 1 | N36: =SUM(D36:M36) -> 1 | P36: Плов из птицы | X36: =113*N36 -> 113 | AB36: =25*N36 -> 25 | AF36: =58*N36 -> 58 | AK36: =12*N36 -> 12 | AP36: =1*N36 -> 1
A37: 284 | B37: Печень по-строгановски | C37: 100 | G37: 1 | N37: =SUM(D37:M37) -> 1 | P37: Печень по-строгановски | S37: =11.5*N37 -> 11.5 | U37: =1*N37 -> 1 | Y37: =74*N37 -> 74 | AB37: =10*N37 -> 10 | AH37: =3.5*N37 -> 3.5 | AK37: =6*N37 -> 6 | AP37: =0.5*N37 -> 0.5
A38: 284 | B38: Печень по-строгановски | C38: 150 | M38: 1 | N38: =SUM(D38:M38) -> 1 | P38: Печень по-строгановски | S38: =17.3*N38 -> 17.3 | U38: =1.5*N38 -> 1.5 | Y38: =111*N38 -> 111 | AB38: =15*N38 -> 15 | AH38: =5.3*N38 -> 5.3 | AK38: =9*N38 -> 9 | AP38: =0.5*N38 -> 0.5
A39: 263 | B39: Рагу из свинины | C39: 250 | G39: 1 | N39: =SUM(D39:M39) -> 1 | P39: Рагу из свинины | W39: =100*N39 -> 100 | AA39: =114*N39 -> 114 | AB39: =38*N39 -> 38 | AH39: =3*N39 -> 3 | AK39: =11*N39 -> 11 | AP39: =1*N39 -> 1
A40: 229 | B40: Рыба тушенная с овощами | C40: 140 | D40: 1 | L40: 1 | N40: =SUM(D40:M40) -> 2 | P40: Рыба тушенная с овощами | Z40: =86.8*N40 -> 173.6 | AB40: =42*N40 -> 84 | AK40: =7*N40 -> 14 | AO40: =2.8*N40 -> 5.6 | AP40: =1.4*N40 -> 2.8
...

Sheet Ведомость 12-18 лет
A1: Ведомость контроля за рационом питания детей в возрасте от 12 до 18 лет
A2: с __________ по ____________
B5: ХИМИЧЕСКИЙ СОСТАВ | C5: Пищевая ценность | F5: Энергетическая ценность | G5: Витамины ( мг) | J5: Минеральные вещества (мг)
C6: Б | D6: Ж | E6: У | G6: А | H6: В1 | I6: С | J6: Са | K6: P | L6: Fe
B7: Норматив по САНПиН (55%) | C7: 49.5 | D7: 50.6 | E7: 210.7 | F7: 1496 | G7: 495 | H7: 0.8 | I7: 38.5 | J7: 660 | K7: 660 | L7: 9.9
B8: Понедельник | C8: ='Цикличное меню 12-18 лет'!D26 -> 73.871 | D8: ='Цикличное меню 12-18 лет'!E26 -> 99.984 | E8: ='Цикличное меню 12-18 лет'!F26 -> 217.112 | F8: ='Цикличное меню 12-18 лет'!G26 -> 2108.19 | G8: ='Цикличное меню 12-18 лет'!H26 -> 397.32 | H8: ='Цикличное меню 12-18 лет'!I26 -> 1.062 | I8: ='Цикличное меню 12-18 лет'!J26 -> 54.582 | J8: ='Цикличное меню 12-18 лет'!K26 -> 1288.648 | ... L8: ='Цикличное меню 12-18 лет'!M26 -> 12.268
B9: Вторник | C9: ='Цикличное меню 12-18 лет'!D61 -> 51.1955 | D9: ='Цикличное меню 12-18 лет'!E61 -> 46.895 | E9: ='Цикличное меню 12-18 лет'!F61 -> 217.781 | F9: ='Цикличное меню 12-18 лет'!G61 -> 1580.1 | G9: ='Цикличное меню 12-18 лет'!H61 -> 162.5 | H9: ='Цикличное меню 12-18 лет'!I61 -> 1.191 | I9: ='Цикличное меню 12-18 лет'!J61 -> 49.445 | J9: ='Цикличное меню 12-18 лет'!K61 -> 859.821 | ... L9: ='Цикличное меню 12-18 лет'!M61 -> 12.244
B10: Среда | C10: ='Цикличное меню 12-18 лет'!D98 -> 81.0509 | D10: ='Цикличное меню 12-18 лет'!E98 -> 82.9406 | E10: ='Цикличное меню 12-18 лет'!F98 -> 249.725 | F10: ='Цикличное меню 12-18 лет'!G98 -> 2110.35 | G10: ='Цикличное меню 12-18 лет'!H98 -> 205.82 | H10: ='Цикличное меню 12-18 лет'!I98 -> 1.559 | I10: ='Цикличное меню 12-18 лет'!J98 -> 45.095 | J10: ='Цикличное меню 12-18 лет'!K98 -> 767.537 | ... L10: ='Цикличное меню 12-18 лет'!M98 -> 23.349
B11: Четверг | C11: ='Цикличное меню 12-18 лет'!D134 -> 93.4465 | D11: ='Цикличное меню 12-18 лет'!E134 -> 173.9065 | E11: ='Цикличное меню 12-18 лет'!F134 -> 200.0705 | F11: ='Цикличное меню 12-18 лет'!G134 -> 2783.99 | G11: ='Цикличное меню 12-18 лет'!H134 -> 950.22 | H11: ='Цикличное меню 12-18 лет'!I134 -> 1.332 | I11: ='Цикличное меню 12-18 лет'!J134 -> 23.56 | J11: ='Цикличное меню 12-18 лет'!K134 -> 2265.188 | ... L11: ='Цикличное меню 12-18 лет'!M134 -> 13.583
B12: Пятница | C12: ='Цикличное меню 12-18 лет'!D170 -> 49.2225 | D12: ='Цикличное меню 12-18 лет'!E170 -> 32.9625 | E12: ='Цикличное меню 12-18 лет'!F170 -> 217.0425 | F12: ='Цикличное меню 12-18 лет'!G170 -> 1474.65 | G12: ='Цикличное меню 12-18 лет'!H170 -> 98 | H12: ='Цикличное меню 12-18 лет'!I170 -> 1.88 | I12: ='Цикличное меню 12-18 лет'!J170 -> 35.52 | J12: ='Цикличное меню 12-18 лет'!K170 -> 809.86 | ... L12: ='Цикличное меню 12-18 лет'!M170 -> 14.244
B13: Среднее на 1 неделе | C13: =SUM(C8:C12)/5 -> 69.75728 | D13: =SUM(D8:D12)/5 -> 87.33772 | E13: =SUM(E8:E12)/5 -> 220.3462 | F13: =SUM(F8:F12)/5 -> 2011.456 | G13: =SUM(G8:G12)/5 -> 362.772 | H13: =SUM(H8:H12)/5 -> 1.4048 | I13: =SUM(I8:I12)/5 -> 41.6404 | J13: =SUM(J8:J12)/5 -> 1198.2108 | ... L13: =SUM(L8:L12)/5 -> 15.1376
B14: Отклонение от норматива | C14: =C13/C7-1 -> 0.40923798 | D14: =D13/D7-1 -> 0.7260419 | E14: =E13/E7-1 -> 0.04578168 | F14: =F13/F7-1 -> 0.34455615 | G14: =G13/G7-1 -> -0.26712727 | H14: =H13/H7-1 -> 0.756 | I14: =I13/I7-1 -> 0.081568831 | J14: =J13/J7-1 -> 0.81547091 | ... L14: =L13/L7-1 -> 0.52905051
B15: Понедельник | C15: ='Цикличное меню 12-18 лет'!D209 -> 46.379 | D15: ='Цикличное меню 12-18 лет'!E209 -> 49.088 | E15: ='Цикличное меню 12-18 лет'!F209 -> 216.449 | F15: ='Цикличное меню 12-18 лет'!G209 -> 1540.99 | G15: ='Цикличное меню 12-18 лет'!H209 -> 226.7 | H15: ='Цикличное меню 12-18 лет'!I209 -> 1.464 | I15: ='Цикличное меню 12-18 лет'!J209 -> 50.305 | J15: ='Цикличное меню 12-18 лет'!K209 -> 521.142 | ... L15: ='Цикличное меню 12-18 лет'!M209 -> 16.115
B16: Вторник | C16: ='Цикличное меню 12-18 лет'!D242 -> 56.6845 | D16: ='Цикличное меню 12-18 лет'!E242 -> 51.079 | E16: ='Цикличное меню 12-18 лет'!F242 -> 162.275 | F16: ='Цикличное меню 12-18 лет'!G242 -> 1381.804 | G16: ='Цикличное меню 12-18 лет'!H242 -> 401.808 | H16: ='Цикличное меню 12-18 лет'!I242 -> 1.14 | I16: ='Цикличное меню 12-18 лет'!J242 -> 23.343 | J16: ='Цикличное меню 12-18 лет'!K242 -> 605.977 | ... L16: ='Цикличное меню 12-18 лет'!M242 -> 13.293
B17: Среда | C17: ='Цикличное меню 12-18 лет'!D281 -> 66.293 | D17: ='Цикличное меню 12-18 лет'!E281 -> 83.8816 | E17: ='Цикличное меню 12-18 лет'!F281 -> 273.963 | F17: ='Цикличное меню 12-18 лет'!G281 -> 2170.501 | G17: ='Цикличное меню 12-18 лет'!H281 -> 144.492 | H17: ='Цикличное меню 12-18 лет'!I281 -> 1.994 | I17: ='Цикличное меню 12-18 лет'!J281 -> 66.328 | J17: ='Цикличное меню 12-18 лет'!K281 -> 568.192 | ... L17: ='Цикличное меню 12-18 лет'!M281 -> 23.755
B18: Четверг | C18: ='Цикличное меню 12-18 лет'!D315 -> 86.6 | D18: ='Цикличное меню 12-18 лет'!E315 -> 107.715 | E18: ='Цикличное меню 12-18 лет'!F315 -> 235.525 | F18: ='Цикличное меню 12-18 лет'!G315 -> 2265.15 | G18: ='Цикличное меню 12-18 лет'!H315 -> 273.2 | H18: ='Цикличное меню 12-18 лет'!I315 -> 2.295 | I18: ='Цикличное меню 12-18 лет'!J315 -> 33.82 | J18: ='Цикличное меню 12-18 лет'!K315 -> 1192.8 | ... L18: ='Цикличное меню 12-18 лет'!M315 -> 21.924
B19: Пятница | C19: ='Цикличное меню 12-18 лет'!D348 -> 51.4775 | D19: ='Цикличное меню 12-18 лет'!E348 -> 213.5125 | E19: ='Цикличное меню 12-18 лет'!F348 -> 196.6175 | F19: ='Цикличное меню 12-18 лет'!G348 -> 1683.95 | G19: ='Цикличное меню 12-18 лет'!H348 -> 75.3 | H19: ='Цикличное меню 12-18 лет'!I348 -> 1.88 | I19: ='Цикличное меню 12-18 лет'!J348 -> 36.44 | J19: ='Цикличное меню 12-18 лет'!K348 -> 543.98 | ... L19: ='Цикличное меню 12-18 лет'!M348 -> 17.119
B20: Среднее на 2 неделе | C20: =SUM(C15:C19)/5 -> 61.4868 | D20: =SUM(D15:D19)/5 -> 101.05522 | E20: =SUM(E15:E19)/5 -> 216.9659 | F20: =SUM(F15:F19)/5 -> 1808.479 | G20: =SUM(G15:G19)/5 -> 224.3 | H20: =SUM(H15:H19)/5 -> 1.7546 | I20: =SUM(I15:I19)/5 -> 42.0472 | J20: =SUM(J15:J19)/5 -> 686.4182 | ... L20: =SUM(L15:L19)/5 -> 18.4412
B21: Отклонение от норматива | C21: =C20/C7-1 -> 0.24215758 | D21: =D20/D7-1 -> 0.99713874 | E21: =E20/E7-1 -> 0.029738491 | F21: =F20/F7-1 -> 0.20887634 | G21: =G20/G7-1 -> -0.54686869 | H21: =H20/H7-1 -> 1.19325 | I21: =I20/I7-1 -> 0.092135065 | J21: =J20/J7-1 -> 0.040027576 | ... L21: =L20/L7-1 -> 0.86274747
B22: Среднее за 10 дней | C22: =(C8+C9+C10+C11+C12+C15+C16+C17+C18+C19)/10 -> 65.62204 | D22: =(D8+D9+D10+D11+D12+D15+D16+D17+D18+D19)/10 -> 94.19647 | E22: =(E8+E9+E10+E11+E12+E15+E16+E17+E18+E19)/10 -> 218.65605 | F22: =(F8+F9+F10+F11+F12+F15+F16+F17+F18+F19)/10 -> 1909.9675 | G22: =(G8+G9+G10+G11+G12+G15+G16+G17+G18+G19)/10 -> 293.536 | H22: =(H8+H9+H10+H11+H12+H15+H16+H17+H18+H19)/10 -> 1.5797 | I22: =(I8+I9+I10+I11+I12+I15+I16+I17+I18+I19)/10 -> 41.8438 | J22: =(J8+J9+J10+J11+J12+J15+J16+J17+J18+J19)/10 -> 942.3145 | ... L22: =(L8+L9+L10+L11+L12+L15+L16+L17+L18+L19)/10 -> 16.7894
B23: Отклонение от нормы за 10 дней | C23: =C22/C7-1 -> 0.32569778 | D23: =D22/D7-1 -> 0.86159032 | E23: =E22/E7-1 -> 0.037760085 | F23: =F22/F7-1 -> 0.27671624 | G23: =G22/G7-1 -> -0.40699798 | H23: =H22/H7-1 -> 0.974625 | I23: =I22/I7-1 -> 0.086851948 | J23: =J22/J7-1 -> 0.42774924 | ... L23: =L22/L7-1 -> 0.69589899
A30: п/п | B30: Наименование группы пищевой продукции | C30: Количество потребленной продукции в нетто по дням в граммах на одного человека | M30: Среднее за 10 дней | N30: Норма (нетто, гр). Режим питания 2 разовое | O30: Отклонение от нормы в % (+/-)
C31: 1 | D31: 2 | E31: 3 | F31: 4 | G31: 5 | H31: 6 | I31: 7 | J31: 8 | K31: 9 | L31: 10
A32: 1 | B32: Молоко | M32: =SUM(C32:L32)/10 -> 0 | O32: =(M32/N32-1)*100 -> #DIV/0!
A33: 2 | B33: Кисломолочные продукты | M33: =SUM(C33:L33)/10 -> 0 | O33: =(M33/N33-1)*100 -> #DIV/0!
A34: 3 | B34: Творог (5%-9% м.д.ж.) | M34: =SUM(C34:L34)/10 -> 0 | O34: =(M34/N34-1)*100 -> #DIV/0!
A35: 4 | B35: Сметана | M35: =SUM(C35:L35)/10 -> 0 | O35: =(M35/N35-1)*100 -> #DIV/0!
A36: 5 | B36: Сыр | M36: =SUM(C36:L36)/10 -> 0 | O36: =(M36/N36-1)*100 -> #DIV/0!
A37: 6 | B37: Масло сливочное | M37: =SUM(C37:L37)/10 -> 0 | O37: =(M37/N37-1)*100 -> #DIV/0!
A38: 7 | B38: Яйцо (гр) | M38: =SUM(C38:L38)/10 -> 0
A39: 8 | B39: Мясо 1 кат. | M39: =SUM(C39:L39)/10 -> 0 | O39: =(M39/N39-1)*100 -> #DIV/0!
A40: 9 | B40: Птица | M40: =SUM(C40:L40)/10 -> 0 | O40: =(M40/N40-1)*100 -> #DIV/0!
A41: 10 | B41: Субпродукты говяжьи | M41: =SUM(C41:L41)/10 -> 0 | O41: =(M41/N41-1)*100 -> #DIV/0!
A42: 11 | B42: Рыба (филе) | M42: =SUM(C42:L42)/10 -> 0 | O42: =(M42/N42-1)*100 -> #DIV/0!
A43: 12 | B43: Картофель | M43: =SUM(C43:L43)/10 -> 0 | O43: =(M43/N43-1)*100 -> #DIV/0!
A44: 13 | B44: Овощи | M44: =SUM(C44:L44)/10 -> 0 | O44: =(M44/N44-1)*100 -> #DIV/0!
A45: 14 | B45: Фрукты свежие | M45: =SUM(C45:L45)/10 -> 0 | O45: =(M45/N45-1)*100 -> #DIV/0!
A46: 15 | B46: Сухофрукты | M46: =SUM(C46:L46)/10 -> 0 | O46: =(M46/N46-1)*100 -> #DIV/0!
A47: 16 | B47: Сок плодоовощной | M47: =SUM(C47:L47)/10 -> 0 | O47: =(M47/N47-1)*100 -> #DIV/0!
A48: 17 | B48: Крупы, бобовые | M48: =SUM(C48:L48)/10 -> 0 | O48: =(M48/N48-1)*100 -> #DIV/0!
...
