Workbook

Sheet 19440 Физика 7 класс
A1: Часовой пояс | B1: Москва (МСК, UTC+3)
A3: Код | B3: ФИО | C3: Набранные баллы | D3: Максимальный балл | E3: ="Время начала сессии (" & VLOOKUP($B$1,TimeZones!$A$1:$C$28,3,FALSE) & ")" -> Время начала сессии (Москва) | F3: ="Время конца сессии (" & VLOOKUP($B$1,TimeZones!$A$1:$C$28,3,FALSE) & ")" -> Время конца сессии (Москва) | G3: Статус | H3: Грамота
A4: 19440/edu822115/7/9zv887vw | B4: Поплавский Роман Иванович | C4: 8 | D4: 30 | E4: =46294.2496497779 + (VLOOKUP($B$1,TimeZones!$A$1:$C$28,2,FALSE))/24 -> 46294.375 | F4: =46294.2984480811 + (VLOOKUP($B$1,TimeZones!$A$1:$C$28,2,FALSE))/24 -> 46294.423
A5: 19440/edu822115/7/67v25g43 | B5: Чагай Аида Николаевна | C5: 7 | D5: 30 | E5: =46294.2486107501 + (VLOOKUP($B$1,TimeZones!$A$1:$C$28,2,FALSE))/24 -> 46294.374 | F5: =46294.2944488911 + (VLOOKUP($B$1,TimeZones!$A$1:$C$28,2,FALSE))/24 -> 46294.419
A6: 19440/edu822115/7/9zv8w7gw | B6: Пресняков Иван Алексеевич | C6: 4 | D6: 30 | E6: =46294.2496768019 + (VLOOKUP($B$1,TimeZones!$A$1:$C$28,2,FALSE))/24 -> 46294.375 | F6: =46294.2983773530 + (VLOOKUP($B$1,TimeZones!$A$1:$C$28,2,FALSE))/24 -> 46294.423
A7: 19440/edu822115/7/93v34g4r | B7: Тимощук Юрий Дмитриевич | C7: 3 | D7: 30 | E7: =46294.2502416598 + (VLOOKUP($B$1,TimeZones!$A$1:$C$28,2,FALSE))/24 -> 46294.375 | F7: =46294.2938112761 + (VLOOKUP($B$1,TimeZones!$A$1:$C$28,2,FALSE))/24 -> 46294.419
A8: 19440/edu822115/7/52gw4rv8 | B8: Стус Даниил Викторович | C8: 1 | D8: 30 | E8: =46294.2503607267 + (VLOOKUP($B$1,TimeZones!$A$1:$C$28,2,FALSE))/24 -> 46294.375 | F8: =46294.2848744480 + (VLOOKUP($B$1,TimeZones!$A$1:$C$28,2,FALSE))/24 -> 46294.41

Sheet 19441 Физика 8 класс
A1: Часовой пояс | B1: Москва (МСК, UTC+3)
A3: Код | B3: ФИО | C3: Набранные баллы | D3: Максимальный балл | E3: ="Время начала сессии (" & VLOOKUP($B$1,TimeZones!$A$1:$C$28,3,FALSE) & ")" -> Время начала сессии (Москва) | F3: ="Время конца сессии (" & VLOOKUP($B$1,TimeZones!$A$1:$C$28,3,FALSE) & ")" -> Время конца сессии (Москва) | G3: Статус | H3: Грамота
A4: 19441/edu822115/8/52g92qv6 | B4: Вовнянко Анастасия Олеговна | C4: 22 | D4: 30 | E4: =46294.3132297116 + (VLOOKUP($B$1,TimeZones!$A$1:$C$28,2,FALSE))/24 -> 46294.438 | F4: =46294.3372057035 + (VLOOKUP($B$1,TimeZones!$A$1:$C$28,2,FALSE))/24 -> 46294.462
A5: 19441/edu822115/8/z4vr37gq | B5: светлакова юлия сергеевна | C5: 21 | D5: 30 | E5: =46294.3126584236 + (VLOOKUP($B$1,TimeZones!$A$1:$C$28,2,FALSE))/24 -> 46294.438 | F5: =46294.3394502523 + (VLOOKUP($B$1,TimeZones!$A$1:$C$28,2,FALSE))/24 -> 46294.464
A6: 19441/edu822115/8/67vz8wv5 | B6: Назарук Матвей Евгеньевич | C6: 12 | D6: 30 | E6: =46294.3142761154 + (VLOOKUP($B$1,TimeZones!$A$1:$C$28,2,FALSE))/24 -> 46294.439 | F6: =46294.3425107497 + (VLOOKUP($B$1,TimeZones!$A$1:$C$28,2,FALSE))/24 -> 46294.468
A7: 19441/edu822115/8/rqg4rzg9 | B7: Головатенко Сергей Юрьевич | C7: 11 | D7: 30 | E7: =46294.3138351407 + (VLOOKUP($B$1,TimeZones!$A$1:$C$28,2,FALSE))/24 -> 46294.439 | F7: =46294.3331989056 + (VLOOKUP($B$1,TimeZones!$A$1:$C$28,2,FALSE))/24 -> 46294.458
A8: 19441/edu822115/8/57g267g3 | B8: пелех артем сергеевич | C8: 2 | D8: 30 | E8: =46294.3122660661 + (VLOOKUP($B$1,TimeZones!$A$1:$C$28,2,FALSE))/24 -> 46294.437 | F8: =46294.3335103730 + (VLOOKUP($B$1,TimeZones!$A$1:$C$28,2,FALSE))/24 -> 46294.459

Sheet 19442 Физика 9 класс
A1: Часовой пояс | B1: Москва (МСК, UTC+3)
A3: Код | B3: ФИО | C3: Набранные баллы | D3: Максимальный балл | E3: ="Время начала сессии (" & VLOOKUP($B$1,TimeZones!$A$1:$C$28,3,FALSE) & ")" -> Время начала сессии (Москва) | F3: ="Время конца сессии (" & VLOOKUP($B$1,TimeZones!$A$1:$C$28,3,FALSE) & ")" -> Время конца сессии (Москва) | G3: Статус | H3: Грамота
A4: 19442/edu822115/9/3g24z2z5 | B4: Рискальчук Николай Иванович | C4: 13 | D4: 30 | E4: =46294.3448638854 + (VLOOKUP($B$1,TimeZones!$A$1:$C$28,2,FALSE))/24 -> 46294.47 | F4: =46294.3817013790 + (VLOOKUP($B$1,TimeZones!$A$1:$C$28,2,FALSE))/24 -> 46294.507
A5: 19442/edu822115/9/r7v683v5 | B5: Лесняк Иван Максимович | C5: 12 | D5: 30 | E5: =46294.3455432285 + (VLOOKUP($B$1,TimeZones!$A$1:$C$28,2,FALSE))/24 -> 46294.471 | F5: =46294.3977608122 + (VLOOKUP($B$1,TimeZones!$A$1:$C$28,2,FALSE))/24 -> 46294.523
A6: 19442/edu822115/9/q725rqv9 | B6: Поплавский Александр Иванович | C6: 10 | D6: 30 | E6: =46294.3490343893 + (VLOOKUP($B$1,TimeZones!$A$1:$C$28,2,FALSE))/24 -> 46294.474 | F6: =46294.3748012007 + (VLOOKUP($B$1,TimeZones!$A$1:$C$28,2,FALSE))/24 -> 46294.5

Sheet 19443 Физика 10 класс
A1: Список участников появится после окончания олимпиады, если они будут

Sheet 19444 Физика 11 класс
A1: Часовой пояс | B1: Москва (МСК, UTC+3)
A3: Код | B3: ФИО | C3: Набранные баллы | D3: Максимальный балл | E3: ="Время начала сессии (" & VLOOKUP($B$1,TimeZones!$A$1:$C$28,3,FALSE) & ")" -> Время начала сессии (Москва) | F3: ="Время конца сессии (" & VLOOKUP($B$1,TimeZones!$A$1:$C$28,3,FALSE) & ")" -> Время конца сессии (Москва) | G3: Статус | H3: Грамота
A4: 19444/edu822115/11/47gzw289 | B4: Алексеев Егор Александрович | C4: 12 | D4: 30 | E4: =46294.3155647103 + (VLOOKUP($B$1,TimeZones!$A$1:$C$28,2,FALSE))/24 -> 46294.441 | F4: =46294.3381225966 + (VLOOKUP($B$1,TimeZones!$A$1:$C$28,2,FALSE))/24 -> 46294.463
A5: 19444/edu822115/11/8wgqz23q | B5: Мазур Алексей Сергеевич | C5: 3 | D5: 30 | E5: =46294.3362494629 + (VLOOKUP($B$1,TimeZones!$A$1:$C$28,2,FALSE))/24 -> 46294.461 | F5: =46294.3376217668 + (VLOOKUP($B$1,TimeZones!$A$1:$C$28,2,FALSE))/24 -> 46294.463

Sheet TimeZones
A1: UTC (МСК-3, UTC) | B1: 0 | C1: UTC
A2: Калининград (МСК-1, UTC+2) | B2: 2 | C2: Калининград
A3: Москва (МСК, UTC+3) | B3: 3 | C3: Москва
A4: Симферополь (МСК, UTC+3) | B4: 3 | C4: Симферополь
A5: Киров (МСК, UTC+3) | B5: 3 | C5: Киров
A6: Волгоград (МСК, UTC+3) | B6: 3 | C6: Волгоград
A7: Астрахань (МСК+1, UTC+4) | B7: 4 | C7: Астрахань
A8: Саратов (МСК+1, UTC+4) | B8: 4 | C8: Саратов
A9: Ульяновск (МСК+1, UTC+4) | B9: 4 | C9: Ульяновск
A10: Самара (МСК+1, UTC+4) | B10: 4 | C10: Самара
A11: Екатеринбург (МСК+2, UTC+5) | B11: 5 | C11: Екатеринбург
A12: Омск (МСК+3, UTC+6) | B12: 6 | C12: Омск
... A28: Анадырь (МСК+9, UTC+12) | B28: 12 | C28: Анадырь
